BEGIN:VCALENDAR
VERSION:2.0
PRODID:-//Kimo&#039;s Lahaina - ECPv6.15.5//NONSGML v1.0//EN
CALSCALE:GREGORIAN
METHOD:PUBLISH
X-WR-CALNAME:Kimo&#039;s Lahaina
X-ORIGINAL-URL:https://www.kimosmaui.com
X-WR-CALDESC:Events for Kimo&#039;s Lahaina
REFRESH-INTERVAL;VALUE=DURATION:PT1H
X-Robots-Tag:noindex
X-PUBLISHED-TTL:PT1H
BEGIN:VTIMEZONE
TZID:Pacific/Honolulu
BEGIN:STANDARD
TZOFFSETFROM:-1000
TZOFFSETTO:-1000
TZNAME:HST
DTSTART:20200101T000000
END:STANDARD
END:VTIMEZONE
BEGIN:VEVENT
DTSTART;TZID=Pacific/Honolulu:20200110T210000
DTEND;TZID=Pacific/Honolulu:20200110T230000
DTSTAMP:20260421T083002
CREATED:20191223T194027Z
LAST-MODIFIED:20191223T194155Z
UID:3139-1578690000-1578697200@www.kimosmaui.com
SUMMARY:Live Entertainment
DESCRIPTION:Experience a live performance from Uncle Willie K.! He will be performing from 9:00-11:00pm at Kimo’s! There will be a $5 cover.
URL:https://www.kimosmaui.com/event/live-entertainment-willie-k-december-copy/2020-01-10/
LOCATION:Kimo’s\, 845 Front Street\, Lahaina\, HI\, 96761\, United States
CATEGORIES:Live Entertainment
ATTACH;FMTTYPE=image/jpeg:https://www.kimosmaui.com/wp-content/uploads/2018/11/Willie-K-3.jpg
END:VEVENT
END:VCALENDAR