BEGIN:VCALENDAR
VERSION:2.0
PRODID:-//Kimo&#039;s Lahaina - ECPv6.15.5//NONSGML v1.0//EN
CALSCALE:GREGORIAN
METHOD:PUBLISH
X-ORIGINAL-URL:https://www.kimosmaui.com
X-WR-CALDESC:Events for Kimo&#039;s Lahaina
REFRESH-INTERVAL;VALUE=DURATION:PT1H
X-Robots-Tag:noindex
X-PUBLISHED-TTL:PT1H
BEGIN:VTIMEZONE
TZID:Pacific/Honolulu
BEGIN:STANDARD
TZOFFSETFROM:-1000
TZOFFSETTO:-1000
TZNAME:HST
DTSTART:20200101T000000
END:STANDARD
END:VTIMEZONE
BEGIN:VEVENT
DTSTART;TZID=Pacific/Honolulu:20200201T183000
DTEND;TZID=Pacific/Honolulu:20200201T203000
DTSTAMP:20260422T152431
CREATED:20200130T225333Z
LAST-MODIFIED:20200130T230552Z
UID:3231-1580581800-1580589000@www.kimosmaui.com
SUMMARY:Live Entertainment
DESCRIPTION:Enjoy live entertainment from Luau Stew from 6:30-8:30pm. \nLuau stew is a local island favorite that brings together a sweet blend of vocal harmonies and a hearty blend of instrumental talent. With the smooth and jazzy stylings of Joan Kahaialii and beefy Hawaiian and contemporary stylings of John Kahaialii and Ikaika Cosma and the sweet guitar licks from the talented Howard Ahia\, Luau Stew will be sure to fulfill your musical hunger and leave you wanting more.
URL:https://www.kimosmaui.com/event/live-entertainment-luau-stew-6-8-2019-12-28-copy-copy/2020-02-01/
LOCATION:Kimo’s\, 845 Front Street\, Lahaina\, HI\, 96761\, United States
CATEGORIES:Live Entertainment
ATTACH;FMTTYPE=image/jpeg:https://www.kimosmaui.com/wp-content/uploads/2018/11/Benny-Live-Entertainment.jpg
END:VEVENT
END:VCALENDAR