BEGIN:VCALENDAR
VERSION:2.0
PRODID:-//Kimo&#039;s Lahaina - ECPv6.15.5//NONSGML v1.0//EN
CALSCALE:GREGORIAN
METHOD:PUBLISH
X-ORIGINAL-URL:https://www.kimosmaui.com
X-WR-CALDESC:Events for Kimo&#039;s Lahaina
REFRESH-INTERVAL;VALUE=DURATION:PT1H
X-Robots-Tag:noindex
X-PUBLISHED-TTL:PT1H
BEGIN:VTIMEZONE
TZID:Pacific/Honolulu
BEGIN:STANDARD
TZOFFSETFROM:-1000
TZOFFSETTO:-1000
TZNAME:HST
DTSTART:20260101T000000
END:STANDARD
END:VTIMEZONE
BEGIN:VEVENT
DTSTART;TZID=Pacific/Honolulu:20260428T180000
DTEND;TZID=Pacific/Honolulu:20260428T200000
DTSTAMP:20260424T000548
CREATED:20210129T175406Z
LAST-MODIFIED:20210129T175406Z
UID:6869-1777399200-1777406400@www.kimosmaui.com
SUMMARY:Live Entertainment - Ben Uyetake
DESCRIPTION:Enjoy live entertainment from Ben Uyetake on Tuesdays from 6:00-8:00pm!
URL:https://www.kimosmaui.com/event/live-entertainment-ben-uyetake/2026-04-28/
LOCATION:Kimo’s\, 845 Front Street\, Lahaina\, HI\, 96761\, United States
CATEGORIES:Live Entertainment,Weekly Happenings
ATTACH;FMTTYPE=image/jpeg:https://www.kimosmaui.com/wp-content/uploads/2018/10/Live_Entertainment_Kimos_.jpg
END:VEVENT
BEGIN:VEVENT
DTSTART;TZID=Pacific/Honolulu:20260505T180000
DTEND;TZID=Pacific/Honolulu:20260505T200000
DTSTAMP:20260424T000548
CREATED:20210129T175406Z
LAST-MODIFIED:20210129T175406Z
UID:6876-1778004000-1778011200@www.kimosmaui.com
SUMMARY:Live Entertainment - Ben Uyetake
DESCRIPTION:Enjoy live entertainment from Ben Uyetake on Tuesdays from 6:00-8:00pm!
URL:https://www.kimosmaui.com/event/live-entertainment-ben-uyetake/2026-05-05/
LOCATION:Kimo’s\, 845 Front Street\, Lahaina\, HI\, 96761\, United States
CATEGORIES:Live Entertainment,Weekly Happenings
ATTACH;FMTTYPE=image/jpeg:https://www.kimosmaui.com/wp-content/uploads/2018/10/Live_Entertainment_Kimos_.jpg
END:VEVENT
BEGIN:VEVENT
DTSTART;TZID=Pacific/Honolulu:20260512T180000
DTEND;TZID=Pacific/Honolulu:20260512T200000
DTSTAMP:20260424T000548
CREATED:20210129T175406Z
LAST-MODIFIED:20210129T175406Z
UID:6883-1778608800-1778616000@www.kimosmaui.com
SUMMARY:Live Entertainment - Ben Uyetake
DESCRIPTION:Enjoy live entertainment from Ben Uyetake on Tuesdays from 6:00-8:00pm!
URL:https://www.kimosmaui.com/event/live-entertainment-ben-uyetake/2026-05-12/
LOCATION:Kimo’s\, 845 Front Street\, Lahaina\, HI\, 96761\, United States
CATEGORIES:Live Entertainment,Weekly Happenings
ATTACH;FMTTYPE=image/jpeg:https://www.kimosmaui.com/wp-content/uploads/2018/10/Live_Entertainment_Kimos_.jpg
END:VEVENT
BEGIN:VEVENT
DTSTART;TZID=Pacific/Honolulu:20260519T180000
DTEND;TZID=Pacific/Honolulu:20260519T200000
DTSTAMP:20260424T000548
CREATED:20210129T175406Z
LAST-MODIFIED:20210129T175406Z
UID:6890-1779213600-1779220800@www.kimosmaui.com
SUMMARY:Live Entertainment - Ben Uyetake
DESCRIPTION:Enjoy live entertainment from Ben Uyetake on Tuesdays from 6:00-8:00pm!
URL:https://www.kimosmaui.com/event/live-entertainment-ben-uyetake/2026-05-19/
LOCATION:Kimo’s\, 845 Front Street\, Lahaina\, HI\, 96761\, United States
CATEGORIES:Live Entertainment,Weekly Happenings
ATTACH;FMTTYPE=image/jpeg:https://www.kimosmaui.com/wp-content/uploads/2018/10/Live_Entertainment_Kimos_.jpg
END:VEVENT
BEGIN:VEVENT
DTSTART;TZID=Pacific/Honolulu:20260526T180000
DTEND;TZID=Pacific/Honolulu:20260526T200000
DTSTAMP:20260424T000548
CREATED:20210129T175406Z
LAST-MODIFIED:20210129T175406Z
UID:6897-1779818400-1779825600@www.kimosmaui.com
SUMMARY:Live Entertainment - Ben Uyetake
DESCRIPTION:Enjoy live entertainment from Ben Uyetake on Tuesdays from 6:00-8:00pm!
URL:https://www.kimosmaui.com/event/live-entertainment-ben-uyetake/2026-05-26/
LOCATION:Kimo’s\, 845 Front Street\, Lahaina\, HI\, 96761\, United States
CATEGORIES:Live Entertainment,Weekly Happenings
ATTACH;FMTTYPE=image/jpeg:https://www.kimosmaui.com/wp-content/uploads/2018/10/Live_Entertainment_Kimos_.jpg
END:VEVENT
BEGIN:VEVENT
DTSTART;TZID=Pacific/Honolulu:20260602T180000
DTEND;TZID=Pacific/Honolulu:20260602T200000
DTSTAMP:20260424T000548
CREATED:20210129T175406Z
LAST-MODIFIED:20210129T175406Z
UID:6905-1780423200-1780430400@www.kimosmaui.com
SUMMARY:Live Entertainment - Ben Uyetake
DESCRIPTION:Enjoy live entertainment from Ben Uyetake on Tuesdays from 6:00-8:00pm!
URL:https://www.kimosmaui.com/event/live-entertainment-ben-uyetake/2026-06-02/
LOCATION:Kimo’s\, 845 Front Street\, Lahaina\, HI\, 96761\, United States
CATEGORIES:Live Entertainment,Weekly Happenings
ATTACH;FMTTYPE=image/jpeg:https://www.kimosmaui.com/wp-content/uploads/2018/10/Live_Entertainment_Kimos_.jpg
END:VEVENT
BEGIN:VEVENT
DTSTART;TZID=Pacific/Honolulu:20260609T180000
DTEND;TZID=Pacific/Honolulu:20260609T200000
DTSTAMP:20260424T000548
CREATED:20210129T175406Z
LAST-MODIFIED:20210129T175406Z
UID:6912-1781028000-1781035200@www.kimosmaui.com
SUMMARY:Live Entertainment - Ben Uyetake
DESCRIPTION:Enjoy live entertainment from Ben Uyetake on Tuesdays from 6:00-8:00pm!
URL:https://www.kimosmaui.com/event/live-entertainment-ben-uyetake/2026-06-09/
LOCATION:Kimo’s\, 845 Front Street\, Lahaina\, HI\, 96761\, United States
CATEGORIES:Live Entertainment,Weekly Happenings
ATTACH;FMTTYPE=image/jpeg:https://www.kimosmaui.com/wp-content/uploads/2018/10/Live_Entertainment_Kimos_.jpg
END:VEVENT
BEGIN:VEVENT
DTSTART;TZID=Pacific/Honolulu:20260616T180000
DTEND;TZID=Pacific/Honolulu:20260616T200000
DTSTAMP:20260424T000548
CREATED:20210129T175406Z
LAST-MODIFIED:20210129T175406Z
UID:6920-1781632800-1781640000@www.kimosmaui.com
SUMMARY:Live Entertainment - Ben Uyetake
DESCRIPTION:Enjoy live entertainment from Ben Uyetake on Tuesdays from 6:00-8:00pm!
URL:https://www.kimosmaui.com/event/live-entertainment-ben-uyetake/2026-06-16/
LOCATION:Kimo’s\, 845 Front Street\, Lahaina\, HI\, 96761\, United States
CATEGORIES:Live Entertainment,Weekly Happenings
ATTACH;FMTTYPE=image/jpeg:https://www.kimosmaui.com/wp-content/uploads/2018/10/Live_Entertainment_Kimos_.jpg
END:VEVENT
BEGIN:VEVENT
DTSTART;TZID=Pacific/Honolulu:20260623T180000
DTEND;TZID=Pacific/Honolulu:20260623T200000
DTSTAMP:20260424T000548
CREATED:20210129T175406Z
LAST-MODIFIED:20210129T175406Z
UID:6927-1782237600-1782244800@www.kimosmaui.com
SUMMARY:Live Entertainment - Ben Uyetake
DESCRIPTION:Enjoy live entertainment from Ben Uyetake on Tuesdays from 6:00-8:00pm!
URL:https://www.kimosmaui.com/event/live-entertainment-ben-uyetake/2026-06-23/
LOCATION:Kimo’s\, 845 Front Street\, Lahaina\, HI\, 96761\, United States
CATEGORIES:Live Entertainment,Weekly Happenings
ATTACH;FMTTYPE=image/jpeg:https://www.kimosmaui.com/wp-content/uploads/2018/10/Live_Entertainment_Kimos_.jpg
END:VEVENT
BEGIN:VEVENT
DTSTART;TZID=Pacific/Honolulu:20260630T180000
DTEND;TZID=Pacific/Honolulu:20260630T200000
DTSTAMP:20260424T000548
CREATED:20210129T175406Z
LAST-MODIFIED:20210129T175406Z
UID:6934-1782842400-1782849600@www.kimosmaui.com
SUMMARY:Live Entertainment - Ben Uyetake
DESCRIPTION:Enjoy live entertainment from Ben Uyetake on Tuesdays from 6:00-8:00pm!
URL:https://www.kimosmaui.com/event/live-entertainment-ben-uyetake/2026-06-30/
LOCATION:Kimo’s\, 845 Front Street\, Lahaina\, HI\, 96761\, United States
CATEGORIES:Live Entertainment,Weekly Happenings
ATTACH;FMTTYPE=image/jpeg:https://www.kimosmaui.com/wp-content/uploads/2018/10/Live_Entertainment_Kimos_.jpg
END:VEVENT
BEGIN:VEVENT
DTSTART;TZID=Pacific/Honolulu:20260707T180000
DTEND;TZID=Pacific/Honolulu:20260707T200000
DTSTAMP:20260424T000548
CREATED:20210129T175406Z
LAST-MODIFIED:20210129T175406Z
UID:6941-1783447200-1783454400@www.kimosmaui.com
SUMMARY:Live Entertainment - Ben Uyetake
DESCRIPTION:Enjoy live entertainment from Ben Uyetake on Tuesdays from 6:00-8:00pm!
URL:https://www.kimosmaui.com/event/live-entertainment-ben-uyetake/2026-07-07/
LOCATION:Kimo’s\, 845 Front Street\, Lahaina\, HI\, 96761\, United States
CATEGORIES:Live Entertainment,Weekly Happenings
ATTACH;FMTTYPE=image/jpeg:https://www.kimosmaui.com/wp-content/uploads/2018/10/Live_Entertainment_Kimos_.jpg
END:VEVENT
BEGIN:VEVENT
DTSTART;TZID=Pacific/Honolulu:20260714T180000
DTEND;TZID=Pacific/Honolulu:20260714T200000
DTSTAMP:20260424T000548
CREATED:20210129T175406Z
LAST-MODIFIED:20210129T175406Z
UID:6948-1784052000-1784059200@www.kimosmaui.com
SUMMARY:Live Entertainment - Ben Uyetake
DESCRIPTION:Enjoy live entertainment from Ben Uyetake on Tuesdays from 6:00-8:00pm!
URL:https://www.kimosmaui.com/event/live-entertainment-ben-uyetake/2026-07-14/
LOCATION:Kimo’s\, 845 Front Street\, Lahaina\, HI\, 96761\, United States
CATEGORIES:Live Entertainment,Weekly Happenings
ATTACH;FMTTYPE=image/jpeg:https://www.kimosmaui.com/wp-content/uploads/2018/10/Live_Entertainment_Kimos_.jpg
END:VEVENT
BEGIN:VEVENT
DTSTART;TZID=Pacific/Honolulu:20260721T180000
DTEND;TZID=Pacific/Honolulu:20260721T200000
DTSTAMP:20260424T000548
CREATED:20210129T175406Z
LAST-MODIFIED:20210129T175406Z
UID:6955-1784656800-1784664000@www.kimosmaui.com
SUMMARY:Live Entertainment - Ben Uyetake
DESCRIPTION:Enjoy live entertainment from Ben Uyetake on Tuesdays from 6:00-8:00pm!
URL:https://www.kimosmaui.com/event/live-entertainment-ben-uyetake/2026-07-21/
LOCATION:Kimo’s\, 845 Front Street\, Lahaina\, HI\, 96761\, United States
CATEGORIES:Live Entertainment,Weekly Happenings
ATTACH;FMTTYPE=image/jpeg:https://www.kimosmaui.com/wp-content/uploads/2018/10/Live_Entertainment_Kimos_.jpg
END:VEVENT
BEGIN:VEVENT
DTSTART;TZID=Pacific/Honolulu:20260728T180000
DTEND;TZID=Pacific/Honolulu:20260728T200000
DTSTAMP:20260424T000548
CREATED:20210129T175406Z
LAST-MODIFIED:20210129T175406Z
UID:6962-1785261600-1785268800@www.kimosmaui.com
SUMMARY:Live Entertainment - Ben Uyetake
DESCRIPTION:Enjoy live entertainment from Ben Uyetake on Tuesdays from 6:00-8:00pm!
URL:https://www.kimosmaui.com/event/live-entertainment-ben-uyetake/2026-07-28/
LOCATION:Kimo’s\, 845 Front Street\, Lahaina\, HI\, 96761\, United States
CATEGORIES:Live Entertainment,Weekly Happenings
ATTACH;FMTTYPE=image/jpeg:https://www.kimosmaui.com/wp-content/uploads/2018/10/Live_Entertainment_Kimos_.jpg
END:VEVENT
BEGIN:VEVENT
DTSTART;TZID=Pacific/Honolulu:20260804T180000
DTEND;TZID=Pacific/Honolulu:20260804T200000
DTSTAMP:20260424T000548
CREATED:20210129T175406Z
LAST-MODIFIED:20210129T175406Z
UID:6969-1785866400-1785873600@www.kimosmaui.com
SUMMARY:Live Entertainment - Ben Uyetake
DESCRIPTION:Enjoy live entertainment from Ben Uyetake on Tuesdays from 6:00-8:00pm!
URL:https://www.kimosmaui.com/event/live-entertainment-ben-uyetake/2026-08-04/
LOCATION:Kimo’s\, 845 Front Street\, Lahaina\, HI\, 96761\, United States
CATEGORIES:Live Entertainment,Weekly Happenings
ATTACH;FMTTYPE=image/jpeg:https://www.kimosmaui.com/wp-content/uploads/2018/10/Live_Entertainment_Kimos_.jpg
END:VEVENT
BEGIN:VEVENT
DTSTART;TZID=Pacific/Honolulu:20260811T180000
DTEND;TZID=Pacific/Honolulu:20260811T200000
DTSTAMP:20260424T000548
CREATED:20210129T175406Z
LAST-MODIFIED:20210129T175406Z
UID:6976-1786471200-1786478400@www.kimosmaui.com
SUMMARY:Live Entertainment - Ben Uyetake
DESCRIPTION:Enjoy live entertainment from Ben Uyetake on Tuesdays from 6:00-8:00pm!
URL:https://www.kimosmaui.com/event/live-entertainment-ben-uyetake/2026-08-11/
LOCATION:Kimo’s\, 845 Front Street\, Lahaina\, HI\, 96761\, United States
CATEGORIES:Live Entertainment,Weekly Happenings
ATTACH;FMTTYPE=image/jpeg:https://www.kimosmaui.com/wp-content/uploads/2018/10/Live_Entertainment_Kimos_.jpg
END:VEVENT
BEGIN:VEVENT
DTSTART;TZID=Pacific/Honolulu:20260818T180000
DTEND;TZID=Pacific/Honolulu:20260818T200000
DTSTAMP:20260424T000548
CREATED:20210129T175406Z
LAST-MODIFIED:20210129T175406Z
UID:6983-1787076000-1787083200@www.kimosmaui.com
SUMMARY:Live Entertainment - Ben Uyetake
DESCRIPTION:Enjoy live entertainment from Ben Uyetake on Tuesdays from 6:00-8:00pm!
URL:https://www.kimosmaui.com/event/live-entertainment-ben-uyetake/2026-08-18/
LOCATION:Kimo’s\, 845 Front Street\, Lahaina\, HI\, 96761\, United States
CATEGORIES:Live Entertainment,Weekly Happenings
ATTACH;FMTTYPE=image/jpeg:https://www.kimosmaui.com/wp-content/uploads/2018/10/Live_Entertainment_Kimos_.jpg
END:VEVENT
BEGIN:VEVENT
DTSTART;TZID=Pacific/Honolulu:20260825T180000
DTEND;TZID=Pacific/Honolulu:20260825T200000
DTSTAMP:20260424T000548
CREATED:20210129T175406Z
LAST-MODIFIED:20210129T175406Z
UID:6990-1787680800-1787688000@www.kimosmaui.com
SUMMARY:Live Entertainment - Ben Uyetake
DESCRIPTION:Enjoy live entertainment from Ben Uyetake on Tuesdays from 6:00-8:00pm!
URL:https://www.kimosmaui.com/event/live-entertainment-ben-uyetake/2026-08-25/
LOCATION:Kimo’s\, 845 Front Street\, Lahaina\, HI\, 96761\, United States
CATEGORIES:Live Entertainment,Weekly Happenings
ATTACH;FMTTYPE=image/jpeg:https://www.kimosmaui.com/wp-content/uploads/2018/10/Live_Entertainment_Kimos_.jpg
END:VEVENT
BEGIN:VEVENT
DTSTART;TZID=Pacific/Honolulu:20260901T180000
DTEND;TZID=Pacific/Honolulu:20260901T200000
DTSTAMP:20260424T000548
CREATED:20210129T175406Z
LAST-MODIFIED:20210129T175406Z
UID:6997-1788285600-1788292800@www.kimosmaui.com
SUMMARY:Live Entertainment - Ben Uyetake
DESCRIPTION:Enjoy live entertainment from Ben Uyetake on Tuesdays from 6:00-8:00pm!
URL:https://www.kimosmaui.com/event/live-entertainment-ben-uyetake/2026-09-01/
LOCATION:Kimo’s\, 845 Front Street\, Lahaina\, HI\, 96761\, United States
CATEGORIES:Live Entertainment,Weekly Happenings
ATTACH;FMTTYPE=image/jpeg:https://www.kimosmaui.com/wp-content/uploads/2018/10/Live_Entertainment_Kimos_.jpg
END:VEVENT
BEGIN:VEVENT
DTSTART;TZID=Pacific/Honolulu:20260908T180000
DTEND;TZID=Pacific/Honolulu:20260908T200000
DTSTAMP:20260424T000548
CREATED:20210129T175406Z
LAST-MODIFIED:20210129T175406Z
UID:7004-1788890400-1788897600@www.kimosmaui.com
SUMMARY:Live Entertainment - Ben Uyetake
DESCRIPTION:Enjoy live entertainment from Ben Uyetake on Tuesdays from 6:00-8:00pm!
URL:https://www.kimosmaui.com/event/live-entertainment-ben-uyetake/2026-09-08/
LOCATION:Kimo’s\, 845 Front Street\, Lahaina\, HI\, 96761\, United States
CATEGORIES:Live Entertainment,Weekly Happenings
ATTACH;FMTTYPE=image/jpeg:https://www.kimosmaui.com/wp-content/uploads/2018/10/Live_Entertainment_Kimos_.jpg
END:VEVENT
BEGIN:VEVENT
DTSTART;TZID=Pacific/Honolulu:20260915T180000
DTEND;TZID=Pacific/Honolulu:20260915T200000
DTSTAMP:20260424T000548
CREATED:20210129T175406Z
LAST-MODIFIED:20210129T175406Z
UID:7011-1789495200-1789502400@www.kimosmaui.com
SUMMARY:Live Entertainment - Ben Uyetake
DESCRIPTION:Enjoy live entertainment from Ben Uyetake on Tuesdays from 6:00-8:00pm!
URL:https://www.kimosmaui.com/event/live-entertainment-ben-uyetake/2026-09-15/
LOCATION:Kimo’s\, 845 Front Street\, Lahaina\, HI\, 96761\, United States
CATEGORIES:Live Entertainment,Weekly Happenings
ATTACH;FMTTYPE=image/jpeg:https://www.kimosmaui.com/wp-content/uploads/2018/10/Live_Entertainment_Kimos_.jpg
END:VEVENT
BEGIN:VEVENT
DTSTART;TZID=Pacific/Honolulu:20260922T180000
DTEND;TZID=Pacific/Honolulu:20260922T200000
DTSTAMP:20260424T000548
CREATED:20210129T175406Z
LAST-MODIFIED:20210129T175406Z
UID:7018-1790100000-1790107200@www.kimosmaui.com
SUMMARY:Live Entertainment - Ben Uyetake
DESCRIPTION:Enjoy live entertainment from Ben Uyetake on Tuesdays from 6:00-8:00pm!
URL:https://www.kimosmaui.com/event/live-entertainment-ben-uyetake/2026-09-22/
LOCATION:Kimo’s\, 845 Front Street\, Lahaina\, HI\, 96761\, United States
CATEGORIES:Live Entertainment,Weekly Happenings
ATTACH;FMTTYPE=image/jpeg:https://www.kimosmaui.com/wp-content/uploads/2018/10/Live_Entertainment_Kimos_.jpg
END:VEVENT
BEGIN:VEVENT
DTSTART;TZID=Pacific/Honolulu:20260929T180000
DTEND;TZID=Pacific/Honolulu:20260929T200000
DTSTAMP:20260424T000548
CREATED:20210129T175406Z
LAST-MODIFIED:20210129T175406Z
UID:7133-1790704800-1790712000@www.kimosmaui.com
SUMMARY:Live Entertainment - Ben Uyetake
DESCRIPTION:Enjoy live entertainment from Ben Uyetake on Tuesdays from 6:00-8:00pm!
URL:https://www.kimosmaui.com/event/live-entertainment-ben-uyetake/2026-09-29/
LOCATION:Kimo’s\, 845 Front Street\, Lahaina\, HI\, 96761\, United States
CATEGORIES:Live Entertainment,Weekly Happenings
ATTACH;FMTTYPE=image/jpeg:https://www.kimosmaui.com/wp-content/uploads/2018/10/Live_Entertainment_Kimos_.jpg
END:VEVENT
BEGIN:VEVENT
DTSTART;TZID=Pacific/Honolulu:20261006T180000
DTEND;TZID=Pacific/Honolulu:20261006T200000
DTSTAMP:20260424T000548
CREATED:20210129T175406Z
LAST-MODIFIED:20210129T175406Z
UID:7134-1791309600-1791316800@www.kimosmaui.com
SUMMARY:Live Entertainment - Ben Uyetake
DESCRIPTION:Enjoy live entertainment from Ben Uyetake on Tuesdays from 6:00-8:00pm!
URL:https://www.kimosmaui.com/event/live-entertainment-ben-uyetake/2026-10-06/
LOCATION:Kimo’s\, 845 Front Street\, Lahaina\, HI\, 96761\, United States
CATEGORIES:Live Entertainment,Weekly Happenings
ATTACH;FMTTYPE=image/jpeg:https://www.kimosmaui.com/wp-content/uploads/2018/10/Live_Entertainment_Kimos_.jpg
END:VEVENT
BEGIN:VEVENT
DTSTART;TZID=Pacific/Honolulu:20261013T180000
DTEND;TZID=Pacific/Honolulu:20261013T200000
DTSTAMP:20260424T000548
CREATED:20210129T175406Z
LAST-MODIFIED:20210129T175406Z
UID:7135-1791914400-1791921600@www.kimosmaui.com
SUMMARY:Live Entertainment - Ben Uyetake
DESCRIPTION:Enjoy live entertainment from Ben Uyetake on Tuesdays from 6:00-8:00pm!
URL:https://www.kimosmaui.com/event/live-entertainment-ben-uyetake/2026-10-13/
LOCATION:Kimo’s\, 845 Front Street\, Lahaina\, HI\, 96761\, United States
CATEGORIES:Live Entertainment,Weekly Happenings
ATTACH;FMTTYPE=image/jpeg:https://www.kimosmaui.com/wp-content/uploads/2018/10/Live_Entertainment_Kimos_.jpg
END:VEVENT
BEGIN:VEVENT
DTSTART;TZID=Pacific/Honolulu:20261020T180000
DTEND;TZID=Pacific/Honolulu:20261020T200000
DTSTAMP:20260424T000548
CREATED:20210129T175406Z
LAST-MODIFIED:20210129T175406Z
UID:7136-1792519200-1792526400@www.kimosmaui.com
SUMMARY:Live Entertainment - Ben Uyetake
DESCRIPTION:Enjoy live entertainment from Ben Uyetake on Tuesdays from 6:00-8:00pm!
URL:https://www.kimosmaui.com/event/live-entertainment-ben-uyetake/2026-10-20/
LOCATION:Kimo’s\, 845 Front Street\, Lahaina\, HI\, 96761\, United States
CATEGORIES:Live Entertainment,Weekly Happenings
ATTACH;FMTTYPE=image/jpeg:https://www.kimosmaui.com/wp-content/uploads/2018/10/Live_Entertainment_Kimos_.jpg
END:VEVENT
BEGIN:VEVENT
DTSTART;TZID=Pacific/Honolulu:20261027T180000
DTEND;TZID=Pacific/Honolulu:20261027T200000
DTSTAMP:20260424T000548
CREATED:20210129T175406Z
LAST-MODIFIED:20210129T175406Z
UID:7137-1793124000-1793131200@www.kimosmaui.com
SUMMARY:Live Entertainment - Ben Uyetake
DESCRIPTION:Enjoy live entertainment from Ben Uyetake on Tuesdays from 6:00-8:00pm!
URL:https://www.kimosmaui.com/event/live-entertainment-ben-uyetake/2026-10-27/
LOCATION:Kimo’s\, 845 Front Street\, Lahaina\, HI\, 96761\, United States
CATEGORIES:Live Entertainment,Weekly Happenings
ATTACH;FMTTYPE=image/jpeg:https://www.kimosmaui.com/wp-content/uploads/2018/10/Live_Entertainment_Kimos_.jpg
END:VEVENT
BEGIN:VEVENT
DTSTART;TZID=Pacific/Honolulu:20261103T180000
DTEND;TZID=Pacific/Honolulu:20261103T200000
DTSTAMP:20260424T000548
CREATED:20210129T175406Z
LAST-MODIFIED:20210129T175406Z
UID:7138-1793728800-1793736000@www.kimosmaui.com
SUMMARY:Live Entertainment - Ben Uyetake
DESCRIPTION:Enjoy live entertainment from Ben Uyetake on Tuesdays from 6:00-8:00pm!
URL:https://www.kimosmaui.com/event/live-entertainment-ben-uyetake/2026-11-03/
LOCATION:Kimo’s\, 845 Front Street\, Lahaina\, HI\, 96761\, United States
CATEGORIES:Live Entertainment,Weekly Happenings
ATTACH;FMTTYPE=image/jpeg:https://www.kimosmaui.com/wp-content/uploads/2018/10/Live_Entertainment_Kimos_.jpg
END:VEVENT
BEGIN:VEVENT
DTSTART;TZID=Pacific/Honolulu:20261110T180000
DTEND;TZID=Pacific/Honolulu:20261110T200000
DTSTAMP:20260424T000548
CREATED:20210129T175406Z
LAST-MODIFIED:20210129T175406Z
UID:7139-1794333600-1794340800@www.kimosmaui.com
SUMMARY:Live Entertainment - Ben Uyetake
DESCRIPTION:Enjoy live entertainment from Ben Uyetake on Tuesdays from 6:00-8:00pm!
URL:https://www.kimosmaui.com/event/live-entertainment-ben-uyetake/2026-11-10/
LOCATION:Kimo’s\, 845 Front Street\, Lahaina\, HI\, 96761\, United States
CATEGORIES:Live Entertainment,Weekly Happenings
ATTACH;FMTTYPE=image/jpeg:https://www.kimosmaui.com/wp-content/uploads/2018/10/Live_Entertainment_Kimos_.jpg
END:VEVENT
BEGIN:VEVENT
DTSTART;TZID=Pacific/Honolulu:20261117T180000
DTEND;TZID=Pacific/Honolulu:20261117T200000
DTSTAMP:20260424T000548
CREATED:20210129T175406Z
LAST-MODIFIED:20210129T175406Z
UID:7140-1794938400-1794945600@www.kimosmaui.com
SUMMARY:Live Entertainment - Ben Uyetake
DESCRIPTION:Enjoy live entertainment from Ben Uyetake on Tuesdays from 6:00-8:00pm!
URL:https://www.kimosmaui.com/event/live-entertainment-ben-uyetake/2026-11-17/
LOCATION:Kimo’s\, 845 Front Street\, Lahaina\, HI\, 96761\, United States
CATEGORIES:Live Entertainment,Weekly Happenings
ATTACH;FMTTYPE=image/jpeg:https://www.kimosmaui.com/wp-content/uploads/2018/10/Live_Entertainment_Kimos_.jpg
END:VEVENT
END:VCALENDAR