BEGIN:VCALENDAR
VERSION:2.0
PRODID:-//Kimo&#039;s Lahaina - ECPv6.15.5//NONSGML v1.0//EN
CALSCALE:GREGORIAN
METHOD:PUBLISH
X-WR-CALNAME:Kimo&#039;s Lahaina
X-ORIGINAL-URL:https://www.kimosmaui.com
X-WR-CALDESC:Events for Kimo&#039;s Lahaina
REFRESH-INTERVAL;VALUE=DURATION:PT1H
X-Robots-Tag:noindex
X-PUBLISHED-TTL:PT1H
BEGIN:VTIMEZONE
TZID:Pacific/Honolulu
BEGIN:STANDARD
TZOFFSETFROM:-1000
TZOFFSETTO:-1000
TZNAME:HST
DTSTART:20250101T000000
END:STANDARD
END:VTIMEZONE
BEGIN:VEVENT
DTSTART;TZID=Pacific/Honolulu:20260421T180000
DTEND;TZID=Pacific/Honolulu:20260421T200000
DTSTAMP:20260424T012559
CREATED:20210129T175406Z
LAST-MODIFIED:20210129T175406Z
UID:6862-1776794400-1776801600@www.kimosmaui.com
SUMMARY:Live Entertainment - Ben Uyetake
DESCRIPTION:Enjoy live entertainment from Ben Uyetake on Tuesdays from 6:00-8:00pm!
URL:https://www.kimosmaui.com/event/live-entertainment-ben-uyetake/2026-04-21/
LOCATION:Kimo’s\, 845 Front Street\, Lahaina\, HI\, 96761\, United States
CATEGORIES:Live Entertainment,Weekly Happenings
ATTACH;FMTTYPE=image/jpeg:https://www.kimosmaui.com/wp-content/uploads/2018/10/Live_Entertainment_Kimos_.jpg
END:VEVENT
BEGIN:VEVENT
DTSTART;TZID=Pacific/Honolulu:20260414T180000
DTEND;TZID=Pacific/Honolulu:20260414T200000
DTSTAMP:20260424T012559
CREATED:20210129T175406Z
LAST-MODIFIED:20210129T175406Z
UID:6855-1776189600-1776196800@www.kimosmaui.com
SUMMARY:Live Entertainment - Ben Uyetake
DESCRIPTION:Enjoy live entertainment from Ben Uyetake on Tuesdays from 6:00-8:00pm!
URL:https://www.kimosmaui.com/event/live-entertainment-ben-uyetake/2026-04-14/
LOCATION:Kimo’s\, 845 Front Street\, Lahaina\, HI\, 96761\, United States
CATEGORIES:Live Entertainment,Weekly Happenings
ATTACH;FMTTYPE=image/jpeg:https://www.kimosmaui.com/wp-content/uploads/2018/10/Live_Entertainment_Kimos_.jpg
END:VEVENT
BEGIN:VEVENT
DTSTART;TZID=Pacific/Honolulu:20260407T180000
DTEND;TZID=Pacific/Honolulu:20260407T200000
DTSTAMP:20260424T012559
CREATED:20210129T175406Z
LAST-MODIFIED:20210129T175406Z
UID:6848-1775584800-1775592000@www.kimosmaui.com
SUMMARY:Live Entertainment - Ben Uyetake
DESCRIPTION:Enjoy live entertainment from Ben Uyetake on Tuesdays from 6:00-8:00pm!
URL:https://www.kimosmaui.com/event/live-entertainment-ben-uyetake/2026-04-07/
LOCATION:Kimo’s\, 845 Front Street\, Lahaina\, HI\, 96761\, United States
CATEGORIES:Live Entertainment,Weekly Happenings
ATTACH;FMTTYPE=image/jpeg:https://www.kimosmaui.com/wp-content/uploads/2018/10/Live_Entertainment_Kimos_.jpg
END:VEVENT
BEGIN:VEVENT
DTSTART;TZID=Pacific/Honolulu:20260331T180000
DTEND;TZID=Pacific/Honolulu:20260331T200000
DTSTAMP:20260424T012559
CREATED:20210129T175406Z
LAST-MODIFIED:20210129T175406Z
UID:6841-1774980000-1774987200@www.kimosmaui.com
SUMMARY:Live Entertainment - Ben Uyetake
DESCRIPTION:Enjoy live entertainment from Ben Uyetake on Tuesdays from 6:00-8:00pm!
URL:https://www.kimosmaui.com/event/live-entertainment-ben-uyetake/2026-03-31/
LOCATION:Kimo’s\, 845 Front Street\, Lahaina\, HI\, 96761\, United States
CATEGORIES:Live Entertainment,Weekly Happenings
ATTACH;FMTTYPE=image/jpeg:https://www.kimosmaui.com/wp-content/uploads/2018/10/Live_Entertainment_Kimos_.jpg
END:VEVENT
BEGIN:VEVENT
DTSTART;TZID=Pacific/Honolulu:20260324T180000
DTEND;TZID=Pacific/Honolulu:20260324T200000
DTSTAMP:20260424T012559
CREATED:20210129T175406Z
LAST-MODIFIED:20210129T175406Z
UID:6834-1774375200-1774382400@www.kimosmaui.com
SUMMARY:Live Entertainment - Ben Uyetake
DESCRIPTION:Enjoy live entertainment from Ben Uyetake on Tuesdays from 6:00-8:00pm!
URL:https://www.kimosmaui.com/event/live-entertainment-ben-uyetake/2026-03-24/
LOCATION:Kimo’s\, 845 Front Street\, Lahaina\, HI\, 96761\, United States
CATEGORIES:Live Entertainment,Weekly Happenings
ATTACH;FMTTYPE=image/jpeg:https://www.kimosmaui.com/wp-content/uploads/2018/10/Live_Entertainment_Kimos_.jpg
END:VEVENT
BEGIN:VEVENT
DTSTART;TZID=Pacific/Honolulu:20260317T180000
DTEND;TZID=Pacific/Honolulu:20260317T200000
DTSTAMP:20260424T012559
CREATED:20210129T175406Z
LAST-MODIFIED:20210129T175406Z
UID:6827-1773770400-1773777600@www.kimosmaui.com
SUMMARY:Live Entertainment - Ben Uyetake
DESCRIPTION:Enjoy live entertainment from Ben Uyetake on Tuesdays from 6:00-8:00pm!
URL:https://www.kimosmaui.com/event/live-entertainment-ben-uyetake/2026-03-17/
LOCATION:Kimo’s\, 845 Front Street\, Lahaina\, HI\, 96761\, United States
CATEGORIES:Live Entertainment,Weekly Happenings
ATTACH;FMTTYPE=image/jpeg:https://www.kimosmaui.com/wp-content/uploads/2018/10/Live_Entertainment_Kimos_.jpg
END:VEVENT
BEGIN:VEVENT
DTSTART;TZID=Pacific/Honolulu:20260310T180000
DTEND;TZID=Pacific/Honolulu:20260310T200000
DTSTAMP:20260424T012559
CREATED:20210129T175406Z
LAST-MODIFIED:20210129T175406Z
UID:6820-1773165600-1773172800@www.kimosmaui.com
SUMMARY:Live Entertainment - Ben Uyetake
DESCRIPTION:Enjoy live entertainment from Ben Uyetake on Tuesdays from 6:00-8:00pm!
URL:https://www.kimosmaui.com/event/live-entertainment-ben-uyetake/2026-03-10/
LOCATION:Kimo’s\, 845 Front Street\, Lahaina\, HI\, 96761\, United States
CATEGORIES:Live Entertainment,Weekly Happenings
ATTACH;FMTTYPE=image/jpeg:https://www.kimosmaui.com/wp-content/uploads/2018/10/Live_Entertainment_Kimos_.jpg
END:VEVENT
BEGIN:VEVENT
DTSTART;TZID=Pacific/Honolulu:20260303T180000
DTEND;TZID=Pacific/Honolulu:20260303T200000
DTSTAMP:20260424T012559
CREATED:20210129T175406Z
LAST-MODIFIED:20210129T175406Z
UID:6813-1772560800-1772568000@www.kimosmaui.com
SUMMARY:Live Entertainment - Ben Uyetake
DESCRIPTION:Enjoy live entertainment from Ben Uyetake on Tuesdays from 6:00-8:00pm!
URL:https://www.kimosmaui.com/event/live-entertainment-ben-uyetake/2026-03-03/
LOCATION:Kimo’s\, 845 Front Street\, Lahaina\, HI\, 96761\, United States
CATEGORIES:Live Entertainment,Weekly Happenings
ATTACH;FMTTYPE=image/jpeg:https://www.kimosmaui.com/wp-content/uploads/2018/10/Live_Entertainment_Kimos_.jpg
END:VEVENT
BEGIN:VEVENT
DTSTART;TZID=Pacific/Honolulu:20260224T180000
DTEND;TZID=Pacific/Honolulu:20260224T200000
DTSTAMP:20260424T012559
CREATED:20210129T175406Z
LAST-MODIFIED:20210129T175406Z
UID:6806-1771956000-1771963200@www.kimosmaui.com
SUMMARY:Live Entertainment - Ben Uyetake
DESCRIPTION:Enjoy live entertainment from Ben Uyetake on Tuesdays from 6:00-8:00pm!
URL:https://www.kimosmaui.com/event/live-entertainment-ben-uyetake/2026-02-24/
LOCATION:Kimo’s\, 845 Front Street\, Lahaina\, HI\, 96761\, United States
CATEGORIES:Live Entertainment,Weekly Happenings
ATTACH;FMTTYPE=image/jpeg:https://www.kimosmaui.com/wp-content/uploads/2018/10/Live_Entertainment_Kimos_.jpg
END:VEVENT
BEGIN:VEVENT
DTSTART;TZID=Pacific/Honolulu:20260217T180000
DTEND;TZID=Pacific/Honolulu:20260217T200000
DTSTAMP:20260424T012559
CREATED:20210129T175406Z
LAST-MODIFIED:20210129T175406Z
UID:6799-1771351200-1771358400@www.kimosmaui.com
SUMMARY:Live Entertainment - Ben Uyetake
DESCRIPTION:Enjoy live entertainment from Ben Uyetake on Tuesdays from 6:00-8:00pm!
URL:https://www.kimosmaui.com/event/live-entertainment-ben-uyetake/2026-02-17/
LOCATION:Kimo’s\, 845 Front Street\, Lahaina\, HI\, 96761\, United States
CATEGORIES:Live Entertainment,Weekly Happenings
ATTACH;FMTTYPE=image/jpeg:https://www.kimosmaui.com/wp-content/uploads/2018/10/Live_Entertainment_Kimos_.jpg
END:VEVENT
BEGIN:VEVENT
DTSTART;TZID=Pacific/Honolulu:20260210T180000
DTEND;TZID=Pacific/Honolulu:20260210T200000
DTSTAMP:20260424T012559
CREATED:20210129T175406Z
LAST-MODIFIED:20210129T175406Z
UID:6790-1770746400-1770753600@www.kimosmaui.com
SUMMARY:Live Entertainment - Ben Uyetake
DESCRIPTION:Enjoy live entertainment from Ben Uyetake on Tuesdays from 6:00-8:00pm!
URL:https://www.kimosmaui.com/event/live-entertainment-ben-uyetake/2026-02-10/
LOCATION:Kimo’s\, 845 Front Street\, Lahaina\, HI\, 96761\, United States
CATEGORIES:Live Entertainment,Weekly Happenings
ATTACH;FMTTYPE=image/jpeg:https://www.kimosmaui.com/wp-content/uploads/2018/10/Live_Entertainment_Kimos_.jpg
END:VEVENT
BEGIN:VEVENT
DTSTART;TZID=Pacific/Honolulu:20260203T180000
DTEND;TZID=Pacific/Honolulu:20260203T200000
DTSTAMP:20260424T012559
CREATED:20210129T175406Z
LAST-MODIFIED:20210129T175406Z
UID:6781-1770141600-1770148800@www.kimosmaui.com
SUMMARY:Live Entertainment - Ben Uyetake
DESCRIPTION:Enjoy live entertainment from Ben Uyetake on Tuesdays from 6:00-8:00pm!
URL:https://www.kimosmaui.com/event/live-entertainment-ben-uyetake/2026-02-03/
LOCATION:Kimo’s\, 845 Front Street\, Lahaina\, HI\, 96761\, United States
CATEGORIES:Live Entertainment,Weekly Happenings
ATTACH;FMTTYPE=image/jpeg:https://www.kimosmaui.com/wp-content/uploads/2018/10/Live_Entertainment_Kimos_.jpg
END:VEVENT
BEGIN:VEVENT
DTSTART;TZID=Pacific/Honolulu:20260127T180000
DTEND;TZID=Pacific/Honolulu:20260127T200000
DTSTAMP:20260424T012559
CREATED:20210129T175406Z
LAST-MODIFIED:20210129T175406Z
UID:6774-1769536800-1769544000@www.kimosmaui.com
SUMMARY:Live Entertainment - Ben Uyetake
DESCRIPTION:Enjoy live entertainment from Ben Uyetake on Tuesdays from 6:00-8:00pm!
URL:https://www.kimosmaui.com/event/live-entertainment-ben-uyetake/2026-01-27/
LOCATION:Kimo’s\, 845 Front Street\, Lahaina\, HI\, 96761\, United States
CATEGORIES:Live Entertainment,Weekly Happenings
ATTACH;FMTTYPE=image/jpeg:https://www.kimosmaui.com/wp-content/uploads/2018/10/Live_Entertainment_Kimos_.jpg
END:VEVENT
BEGIN:VEVENT
DTSTART;TZID=Pacific/Honolulu:20260120T180000
DTEND;TZID=Pacific/Honolulu:20260120T200000
DTSTAMP:20260424T012559
CREATED:20210129T175406Z
LAST-MODIFIED:20210129T175406Z
UID:6763-1768932000-1768939200@www.kimosmaui.com
SUMMARY:Live Entertainment - Ben Uyetake
DESCRIPTION:Enjoy live entertainment from Ben Uyetake on Tuesdays from 6:00-8:00pm!
URL:https://www.kimosmaui.com/event/live-entertainment-ben-uyetake/2026-01-20/
LOCATION:Kimo’s\, 845 Front Street\, Lahaina\, HI\, 96761\, United States
CATEGORIES:Live Entertainment,Weekly Happenings
ATTACH;FMTTYPE=image/jpeg:https://www.kimosmaui.com/wp-content/uploads/2018/10/Live_Entertainment_Kimos_.jpg
END:VEVENT
BEGIN:VEVENT
DTSTART;TZID=Pacific/Honolulu:20260113T180000
DTEND;TZID=Pacific/Honolulu:20260113T200000
DTSTAMP:20260424T012559
CREATED:20210129T175406Z
LAST-MODIFIED:20210129T175406Z
UID:6756-1768327200-1768334400@www.kimosmaui.com
SUMMARY:Live Entertainment - Ben Uyetake
DESCRIPTION:Enjoy live entertainment from Ben Uyetake on Tuesdays from 6:00-8:00pm!
URL:https://www.kimosmaui.com/event/live-entertainment-ben-uyetake/2026-01-13/
LOCATION:Kimo’s\, 845 Front Street\, Lahaina\, HI\, 96761\, United States
CATEGORIES:Live Entertainment,Weekly Happenings
ATTACH;FMTTYPE=image/jpeg:https://www.kimosmaui.com/wp-content/uploads/2018/10/Live_Entertainment_Kimos_.jpg
END:VEVENT
BEGIN:VEVENT
DTSTART;TZID=Pacific/Honolulu:20260106T180000
DTEND;TZID=Pacific/Honolulu:20260106T200000
DTSTAMP:20260424T012559
CREATED:20210129T175406Z
LAST-MODIFIED:20210129T175406Z
UID:6749-1767722400-1767729600@www.kimosmaui.com
SUMMARY:Live Entertainment - Ben Uyetake
DESCRIPTION:Enjoy live entertainment from Ben Uyetake on Tuesdays from 6:00-8:00pm!
URL:https://www.kimosmaui.com/event/live-entertainment-ben-uyetake/2026-01-06/
LOCATION:Kimo’s\, 845 Front Street\, Lahaina\, HI\, 96761\, United States
CATEGORIES:Live Entertainment,Weekly Happenings
ATTACH;FMTTYPE=image/jpeg:https://www.kimosmaui.com/wp-content/uploads/2018/10/Live_Entertainment_Kimos_.jpg
END:VEVENT
BEGIN:VEVENT
DTSTART;TZID=Pacific/Honolulu:20251230T180000
DTEND;TZID=Pacific/Honolulu:20251230T200000
DTSTAMP:20260424T012559
CREATED:20210129T175406Z
LAST-MODIFIED:20210129T175406Z
UID:6742-1767117600-1767124800@www.kimosmaui.com
SUMMARY:Live Entertainment - Ben Uyetake
DESCRIPTION:Enjoy live entertainment from Ben Uyetake on Tuesdays from 6:00-8:00pm!
URL:https://www.kimosmaui.com/event/live-entertainment-ben-uyetake/2025-12-30/
LOCATION:Kimo’s\, 845 Front Street\, Lahaina\, HI\, 96761\, United States
CATEGORIES:Live Entertainment,Weekly Happenings
ATTACH;FMTTYPE=image/jpeg:https://www.kimosmaui.com/wp-content/uploads/2018/10/Live_Entertainment_Kimos_.jpg
END:VEVENT
BEGIN:VEVENT
DTSTART;TZID=Pacific/Honolulu:20251223T180000
DTEND;TZID=Pacific/Honolulu:20251223T200000
DTSTAMP:20260424T012559
CREATED:20210129T175406Z
LAST-MODIFIED:20210129T175406Z
UID:6735-1766512800-1766520000@www.kimosmaui.com
SUMMARY:Live Entertainment - Ben Uyetake
DESCRIPTION:Enjoy live entertainment from Ben Uyetake on Tuesdays from 6:00-8:00pm!
URL:https://www.kimosmaui.com/event/live-entertainment-ben-uyetake/2025-12-23/
LOCATION:Kimo’s\, 845 Front Street\, Lahaina\, HI\, 96761\, United States
CATEGORIES:Live Entertainment,Weekly Happenings
ATTACH;FMTTYPE=image/jpeg:https://www.kimosmaui.com/wp-content/uploads/2018/10/Live_Entertainment_Kimos_.jpg
END:VEVENT
BEGIN:VEVENT
DTSTART;TZID=Pacific/Honolulu:20251216T180000
DTEND;TZID=Pacific/Honolulu:20251216T200000
DTSTAMP:20260424T012559
CREATED:20210129T175406Z
LAST-MODIFIED:20210129T175406Z
UID:6728-1765908000-1765915200@www.kimosmaui.com
SUMMARY:Live Entertainment - Ben Uyetake
DESCRIPTION:Enjoy live entertainment from Ben Uyetake on Tuesdays from 6:00-8:00pm!
URL:https://www.kimosmaui.com/event/live-entertainment-ben-uyetake/2025-12-16/
LOCATION:Kimo’s\, 845 Front Street\, Lahaina\, HI\, 96761\, United States
CATEGORIES:Live Entertainment,Weekly Happenings
ATTACH;FMTTYPE=image/jpeg:https://www.kimosmaui.com/wp-content/uploads/2018/10/Live_Entertainment_Kimos_.jpg
END:VEVENT
BEGIN:VEVENT
DTSTART;TZID=Pacific/Honolulu:20251209T180000
DTEND;TZID=Pacific/Honolulu:20251209T200000
DTSTAMP:20260424T012559
CREATED:20210129T175406Z
LAST-MODIFIED:20210129T175406Z
UID:6721-1765303200-1765310400@www.kimosmaui.com
SUMMARY:Live Entertainment - Ben Uyetake
DESCRIPTION:Enjoy live entertainment from Ben Uyetake on Tuesdays from 6:00-8:00pm!
URL:https://www.kimosmaui.com/event/live-entertainment-ben-uyetake/2025-12-09/
LOCATION:Kimo’s\, 845 Front Street\, Lahaina\, HI\, 96761\, United States
CATEGORIES:Live Entertainment,Weekly Happenings
ATTACH;FMTTYPE=image/jpeg:https://www.kimosmaui.com/wp-content/uploads/2018/10/Live_Entertainment_Kimos_.jpg
END:VEVENT
BEGIN:VEVENT
DTSTART;TZID=Pacific/Honolulu:20251202T180000
DTEND;TZID=Pacific/Honolulu:20251202T200000
DTSTAMP:20260424T012559
CREATED:20210129T175406Z
LAST-MODIFIED:20210129T175406Z
UID:6714-1764698400-1764705600@www.kimosmaui.com
SUMMARY:Live Entertainment - Ben Uyetake
DESCRIPTION:Enjoy live entertainment from Ben Uyetake on Tuesdays from 6:00-8:00pm!
URL:https://www.kimosmaui.com/event/live-entertainment-ben-uyetake/2025-12-02/
LOCATION:Kimo’s\, 845 Front Street\, Lahaina\, HI\, 96761\, United States
CATEGORIES:Live Entertainment,Weekly Happenings
ATTACH;FMTTYPE=image/jpeg:https://www.kimosmaui.com/wp-content/uploads/2018/10/Live_Entertainment_Kimos_.jpg
END:VEVENT
BEGIN:VEVENT
DTSTART;TZID=Pacific/Honolulu:20251125T180000
DTEND;TZID=Pacific/Honolulu:20251125T200000
DTSTAMP:20260424T012559
CREATED:20210129T175406Z
LAST-MODIFIED:20210129T175406Z
UID:6706-1764093600-1764100800@www.kimosmaui.com
SUMMARY:Live Entertainment - Ben Uyetake
DESCRIPTION:Enjoy live entertainment from Ben Uyetake on Tuesdays from 6:00-8:00pm!
URL:https://www.kimosmaui.com/event/live-entertainment-ben-uyetake/2025-11-25/
LOCATION:Kimo’s\, 845 Front Street\, Lahaina\, HI\, 96761\, United States
CATEGORIES:Live Entertainment,Weekly Happenings
ATTACH;FMTTYPE=image/jpeg:https://www.kimosmaui.com/wp-content/uploads/2018/10/Live_Entertainment_Kimos_.jpg
END:VEVENT
BEGIN:VEVENT
DTSTART;TZID=Pacific/Honolulu:20251118T180000
DTEND;TZID=Pacific/Honolulu:20251118T200000
DTSTAMP:20260424T012559
CREATED:20210129T175406Z
LAST-MODIFIED:20210129T175406Z
UID:6699-1763488800-1763496000@www.kimosmaui.com
SUMMARY:Live Entertainment - Ben Uyetake
DESCRIPTION:Enjoy live entertainment from Ben Uyetake on Tuesdays from 6:00-8:00pm!
URL:https://www.kimosmaui.com/event/live-entertainment-ben-uyetake/2025-11-18/
LOCATION:Kimo’s\, 845 Front Street\, Lahaina\, HI\, 96761\, United States
CATEGORIES:Live Entertainment,Weekly Happenings
ATTACH;FMTTYPE=image/jpeg:https://www.kimosmaui.com/wp-content/uploads/2018/10/Live_Entertainment_Kimos_.jpg
END:VEVENT
BEGIN:VEVENT
DTSTART;TZID=Pacific/Honolulu:20251111T180000
DTEND;TZID=Pacific/Honolulu:20251111T200000
DTSTAMP:20260424T012559
CREATED:20210129T175406Z
LAST-MODIFIED:20210129T175406Z
UID:6692-1762884000-1762891200@www.kimosmaui.com
SUMMARY:Live Entertainment - Ben Uyetake
DESCRIPTION:Enjoy live entertainment from Ben Uyetake on Tuesdays from 6:00-8:00pm!
URL:https://www.kimosmaui.com/event/live-entertainment-ben-uyetake/2025-11-11/
LOCATION:Kimo’s\, 845 Front Street\, Lahaina\, HI\, 96761\, United States
CATEGORIES:Live Entertainment,Weekly Happenings
ATTACH;FMTTYPE=image/jpeg:https://www.kimosmaui.com/wp-content/uploads/2018/10/Live_Entertainment_Kimos_.jpg
END:VEVENT
BEGIN:VEVENT
DTSTART;TZID=Pacific/Honolulu:20251104T180000
DTEND;TZID=Pacific/Honolulu:20251104T200000
DTSTAMP:20260424T012559
CREATED:20210129T175406Z
LAST-MODIFIED:20210129T175406Z
UID:6685-1762279200-1762286400@www.kimosmaui.com
SUMMARY:Live Entertainment - Ben Uyetake
DESCRIPTION:Enjoy live entertainment from Ben Uyetake on Tuesdays from 6:00-8:00pm!
URL:https://www.kimosmaui.com/event/live-entertainment-ben-uyetake/2025-11-04/
LOCATION:Kimo’s\, 845 Front Street\, Lahaina\, HI\, 96761\, United States
CATEGORIES:Live Entertainment,Weekly Happenings
ATTACH;FMTTYPE=image/jpeg:https://www.kimosmaui.com/wp-content/uploads/2018/10/Live_Entertainment_Kimos_.jpg
END:VEVENT
BEGIN:VEVENT
DTSTART;TZID=Pacific/Honolulu:20251028T180000
DTEND;TZID=Pacific/Honolulu:20251028T200000
DTSTAMP:20260424T012559
CREATED:20210129T175406Z
LAST-MODIFIED:20210129T175406Z
UID:6678-1761674400-1761681600@www.kimosmaui.com
SUMMARY:Live Entertainment - Ben Uyetake
DESCRIPTION:Enjoy live entertainment from Ben Uyetake on Tuesdays from 6:00-8:00pm!
URL:https://www.kimosmaui.com/event/live-entertainment-ben-uyetake/2025-10-28/
LOCATION:Kimo’s\, 845 Front Street\, Lahaina\, HI\, 96761\, United States
CATEGORIES:Live Entertainment,Weekly Happenings
ATTACH;FMTTYPE=image/jpeg:https://www.kimosmaui.com/wp-content/uploads/2018/10/Live_Entertainment_Kimos_.jpg
END:VEVENT
BEGIN:VEVENT
DTSTART;TZID=Pacific/Honolulu:20251021T180000
DTEND;TZID=Pacific/Honolulu:20251021T200000
DTSTAMP:20260424T012559
CREATED:20210129T175406Z
LAST-MODIFIED:20210129T175406Z
UID:6671-1761069600-1761076800@www.kimosmaui.com
SUMMARY:Live Entertainment - Ben Uyetake
DESCRIPTION:Enjoy live entertainment from Ben Uyetake on Tuesdays from 6:00-8:00pm!
URL:https://www.kimosmaui.com/event/live-entertainment-ben-uyetake/2025-10-21/
LOCATION:Kimo’s\, 845 Front Street\, Lahaina\, HI\, 96761\, United States
CATEGORIES:Live Entertainment,Weekly Happenings
ATTACH;FMTTYPE=image/jpeg:https://www.kimosmaui.com/wp-content/uploads/2018/10/Live_Entertainment_Kimos_.jpg
END:VEVENT
BEGIN:VEVENT
DTSTART;TZID=Pacific/Honolulu:20251014T180000
DTEND;TZID=Pacific/Honolulu:20251014T200000
DTSTAMP:20260424T012559
CREATED:20210129T175406Z
LAST-MODIFIED:20210129T175406Z
UID:6664-1760464800-1760472000@www.kimosmaui.com
SUMMARY:Live Entertainment - Ben Uyetake
DESCRIPTION:Enjoy live entertainment from Ben Uyetake on Tuesdays from 6:00-8:00pm!
URL:https://www.kimosmaui.com/event/live-entertainment-ben-uyetake/2025-10-14/
LOCATION:Kimo’s\, 845 Front Street\, Lahaina\, HI\, 96761\, United States
CATEGORIES:Live Entertainment,Weekly Happenings
ATTACH;FMTTYPE=image/jpeg:https://www.kimosmaui.com/wp-content/uploads/2018/10/Live_Entertainment_Kimos_.jpg
END:VEVENT
BEGIN:VEVENT
DTSTART;TZID=Pacific/Honolulu:20251007T180000
DTEND;TZID=Pacific/Honolulu:20251007T200000
DTSTAMP:20260424T012559
CREATED:20210129T175406Z
LAST-MODIFIED:20210129T175406Z
UID:6657-1759860000-1759867200@www.kimosmaui.com
SUMMARY:Live Entertainment - Ben Uyetake
DESCRIPTION:Enjoy live entertainment from Ben Uyetake on Tuesdays from 6:00-8:00pm!
URL:https://www.kimosmaui.com/event/live-entertainment-ben-uyetake/2025-10-07/
LOCATION:Kimo’s\, 845 Front Street\, Lahaina\, HI\, 96761\, United States
CATEGORIES:Live Entertainment,Weekly Happenings
ATTACH;FMTTYPE=image/jpeg:https://www.kimosmaui.com/wp-content/uploads/2018/10/Live_Entertainment_Kimos_.jpg
END:VEVENT
BEGIN:VEVENT
DTSTART;TZID=Pacific/Honolulu:20250930T180000
DTEND;TZID=Pacific/Honolulu:20250930T200000
DTSTAMP:20260424T012559
CREATED:20210129T175406Z
LAST-MODIFIED:20210129T175406Z
UID:6649-1759255200-1759262400@www.kimosmaui.com
SUMMARY:Live Entertainment - Ben Uyetake
DESCRIPTION:Enjoy live entertainment from Ben Uyetake on Tuesdays from 6:00-8:00pm!
URL:https://www.kimosmaui.com/event/live-entertainment-ben-uyetake/2025-09-30/
LOCATION:Kimo’s\, 845 Front Street\, Lahaina\, HI\, 96761\, United States
CATEGORIES:Live Entertainment,Weekly Happenings
ATTACH;FMTTYPE=image/jpeg:https://www.kimosmaui.com/wp-content/uploads/2018/10/Live_Entertainment_Kimos_.jpg
END:VEVENT
END:VCALENDAR