BEGIN:VCALENDAR
VERSION:2.0
PRODID:-//Kimo&#039;s Lahaina - ECPv6.15.5//NONSGML v1.0//EN
CALSCALE:GREGORIAN
METHOD:PUBLISH
X-WR-CALNAME:Kimo&#039;s Lahaina
X-ORIGINAL-URL:https://www.kimosmaui.com
X-WR-CALDESC:Events for Kimo&#039;s Lahaina
REFRESH-INTERVAL;VALUE=DURATION:PT1H
X-Robots-Tag:noindex
X-PUBLISHED-TTL:PT1H
BEGIN:VTIMEZONE
TZID:Pacific/Honolulu
BEGIN:STANDARD
TZOFFSETFROM:-1000
TZOFFSETTO:-1000
TZNAME:HST
DTSTART:20260101T000000
END:STANDARD
END:VTIMEZONE
BEGIN:VEVENT
DTSTART;TZID=Pacific/Honolulu:20260423T180000
DTEND;TZID=Pacific/Honolulu:20260423T200000
DTSTAMP:20260422T021250
CREATED:20210129T175706Z
LAST-MODIFIED:20210129T175706Z
UID:6864-1776967200-1776974400@www.kimosmaui.com
SUMMARY:Live Entertainment - Ben Uyetake
DESCRIPTION:Enjoy live entertainment from Ben Uyetake on Thursdays from 6:00-8:00pm!
URL:https://www.kimosmaui.com/event/live-entertainment-ben-uyetake-2/2026-04-23/
LOCATION:Kimo’s\, 845 Front Street\, Lahaina\, HI\, 96761\, United States
CATEGORIES:Live Entertainment,Weekly Happenings
ATTACH;FMTTYPE=image/jpeg:https://www.kimosmaui.com/wp-content/uploads/2018/10/Live_Entertainment_Kimos_.jpg
END:VEVENT
BEGIN:VEVENT
DTSTART;TZID=Pacific/Honolulu:20260430T180000
DTEND;TZID=Pacific/Honolulu:20260430T200000
DTSTAMP:20260422T021250
CREATED:20210129T175706Z
LAST-MODIFIED:20210129T175706Z
UID:6871-1777572000-1777579200@www.kimosmaui.com
SUMMARY:Live Entertainment - Ben Uyetake
DESCRIPTION:Enjoy live entertainment from Ben Uyetake on Thursdays from 6:00-8:00pm!
URL:https://www.kimosmaui.com/event/live-entertainment-ben-uyetake-2/2026-04-30/
LOCATION:Kimo’s\, 845 Front Street\, Lahaina\, HI\, 96761\, United States
CATEGORIES:Live Entertainment,Weekly Happenings
ATTACH;FMTTYPE=image/jpeg:https://www.kimosmaui.com/wp-content/uploads/2018/10/Live_Entertainment_Kimos_.jpg
END:VEVENT
BEGIN:VEVENT
DTSTART;TZID=Pacific/Honolulu:20260507T180000
DTEND;TZID=Pacific/Honolulu:20260507T200000
DTSTAMP:20260422T021250
CREATED:20210129T175706Z
LAST-MODIFIED:20210129T175706Z
UID:6878-1778176800-1778184000@www.kimosmaui.com
SUMMARY:Live Entertainment - Ben Uyetake
DESCRIPTION:Enjoy live entertainment from Ben Uyetake on Thursdays from 6:00-8:00pm!
URL:https://www.kimosmaui.com/event/live-entertainment-ben-uyetake-2/2026-05-07/
LOCATION:Kimo’s\, 845 Front Street\, Lahaina\, HI\, 96761\, United States
CATEGORIES:Live Entertainment,Weekly Happenings
ATTACH;FMTTYPE=image/jpeg:https://www.kimosmaui.com/wp-content/uploads/2018/10/Live_Entertainment_Kimos_.jpg
END:VEVENT
BEGIN:VEVENT
DTSTART;TZID=Pacific/Honolulu:20260514T180000
DTEND;TZID=Pacific/Honolulu:20260514T200000
DTSTAMP:20260422T021250
CREATED:20210129T175706Z
LAST-MODIFIED:20210129T175706Z
UID:6885-1778781600-1778788800@www.kimosmaui.com
SUMMARY:Live Entertainment - Ben Uyetake
DESCRIPTION:Enjoy live entertainment from Ben Uyetake on Thursdays from 6:00-8:00pm!
URL:https://www.kimosmaui.com/event/live-entertainment-ben-uyetake-2/2026-05-14/
LOCATION:Kimo’s\, 845 Front Street\, Lahaina\, HI\, 96761\, United States
CATEGORIES:Live Entertainment,Weekly Happenings
ATTACH;FMTTYPE=image/jpeg:https://www.kimosmaui.com/wp-content/uploads/2018/10/Live_Entertainment_Kimos_.jpg
END:VEVENT
BEGIN:VEVENT
DTSTART;TZID=Pacific/Honolulu:20260521T180000
DTEND;TZID=Pacific/Honolulu:20260521T200000
DTSTAMP:20260422T021250
CREATED:20210129T175706Z
LAST-MODIFIED:20210129T175706Z
UID:6892-1779386400-1779393600@www.kimosmaui.com
SUMMARY:Live Entertainment - Ben Uyetake
DESCRIPTION:Enjoy live entertainment from Ben Uyetake on Thursdays from 6:00-8:00pm!
URL:https://www.kimosmaui.com/event/live-entertainment-ben-uyetake-2/2026-05-21/
LOCATION:Kimo’s\, 845 Front Street\, Lahaina\, HI\, 96761\, United States
CATEGORIES:Live Entertainment,Weekly Happenings
ATTACH;FMTTYPE=image/jpeg:https://www.kimosmaui.com/wp-content/uploads/2018/10/Live_Entertainment_Kimos_.jpg
END:VEVENT
BEGIN:VEVENT
DTSTART;TZID=Pacific/Honolulu:20260528T180000
DTEND;TZID=Pacific/Honolulu:20260528T200000
DTSTAMP:20260422T021250
CREATED:20210129T175706Z
LAST-MODIFIED:20210129T175706Z
UID:6900-1779991200-1779998400@www.kimosmaui.com
SUMMARY:Live Entertainment - Ben Uyetake
DESCRIPTION:Enjoy live entertainment from Ben Uyetake on Thursdays from 6:00-8:00pm!
URL:https://www.kimosmaui.com/event/live-entertainment-ben-uyetake-2/2026-05-28/
LOCATION:Kimo’s\, 845 Front Street\, Lahaina\, HI\, 96761\, United States
CATEGORIES:Live Entertainment,Weekly Happenings
ATTACH;FMTTYPE=image/jpeg:https://www.kimosmaui.com/wp-content/uploads/2018/10/Live_Entertainment_Kimos_.jpg
END:VEVENT
BEGIN:VEVENT
DTSTART;TZID=Pacific/Honolulu:20260604T180000
DTEND;TZID=Pacific/Honolulu:20260604T200000
DTSTAMP:20260422T021250
CREATED:20210129T175706Z
LAST-MODIFIED:20210129T175706Z
UID:6907-1780596000-1780603200@www.kimosmaui.com
SUMMARY:Live Entertainment - Ben Uyetake
DESCRIPTION:Enjoy live entertainment from Ben Uyetake on Thursdays from 6:00-8:00pm!
URL:https://www.kimosmaui.com/event/live-entertainment-ben-uyetake-2/2026-06-04/
LOCATION:Kimo’s\, 845 Front Street\, Lahaina\, HI\, 96761\, United States
CATEGORIES:Live Entertainment,Weekly Happenings
ATTACH;FMTTYPE=image/jpeg:https://www.kimosmaui.com/wp-content/uploads/2018/10/Live_Entertainment_Kimos_.jpg
END:VEVENT
BEGIN:VEVENT
DTSTART;TZID=Pacific/Honolulu:20260611T180000
DTEND;TZID=Pacific/Honolulu:20260611T200000
DTSTAMP:20260422T021250
CREATED:20210129T175706Z
LAST-MODIFIED:20210129T175706Z
UID:6915-1781200800-1781208000@www.kimosmaui.com
SUMMARY:Live Entertainment - Ben Uyetake
DESCRIPTION:Enjoy live entertainment from Ben Uyetake on Thursdays from 6:00-8:00pm!
URL:https://www.kimosmaui.com/event/live-entertainment-ben-uyetake-2/2026-06-11/
LOCATION:Kimo’s\, 845 Front Street\, Lahaina\, HI\, 96761\, United States
CATEGORIES:Live Entertainment,Weekly Happenings
ATTACH;FMTTYPE=image/jpeg:https://www.kimosmaui.com/wp-content/uploads/2018/10/Live_Entertainment_Kimos_.jpg
END:VEVENT
BEGIN:VEVENT
DTSTART;TZID=Pacific/Honolulu:20260618T180000
DTEND;TZID=Pacific/Honolulu:20260618T200000
DTSTAMP:20260422T021250
CREATED:20210129T175706Z
LAST-MODIFIED:20210129T175706Z
UID:6922-1781805600-1781812800@www.kimosmaui.com
SUMMARY:Live Entertainment - Ben Uyetake
DESCRIPTION:Enjoy live entertainment from Ben Uyetake on Thursdays from 6:00-8:00pm!
URL:https://www.kimosmaui.com/event/live-entertainment-ben-uyetake-2/2026-06-18/
LOCATION:Kimo’s\, 845 Front Street\, Lahaina\, HI\, 96761\, United States
CATEGORIES:Live Entertainment,Weekly Happenings
ATTACH;FMTTYPE=image/jpeg:https://www.kimosmaui.com/wp-content/uploads/2018/10/Live_Entertainment_Kimos_.jpg
END:VEVENT
BEGIN:VEVENT
DTSTART;TZID=Pacific/Honolulu:20260625T180000
DTEND;TZID=Pacific/Honolulu:20260625T200000
DTSTAMP:20260422T021250
CREATED:20210129T175706Z
LAST-MODIFIED:20210129T175706Z
UID:6929-1782410400-1782417600@www.kimosmaui.com
SUMMARY:Live Entertainment - Ben Uyetake
DESCRIPTION:Enjoy live entertainment from Ben Uyetake on Thursdays from 6:00-8:00pm!
URL:https://www.kimosmaui.com/event/live-entertainment-ben-uyetake-2/2026-06-25/
LOCATION:Kimo’s\, 845 Front Street\, Lahaina\, HI\, 96761\, United States
CATEGORIES:Live Entertainment,Weekly Happenings
ATTACH;FMTTYPE=image/jpeg:https://www.kimosmaui.com/wp-content/uploads/2018/10/Live_Entertainment_Kimos_.jpg
END:VEVENT
BEGIN:VEVENT
DTSTART;TZID=Pacific/Honolulu:20260702T180000
DTEND;TZID=Pacific/Honolulu:20260702T200000
DTSTAMP:20260422T021250
CREATED:20210129T175706Z
LAST-MODIFIED:20210129T175706Z
UID:6936-1783015200-1783022400@www.kimosmaui.com
SUMMARY:Live Entertainment - Ben Uyetake
DESCRIPTION:Enjoy live entertainment from Ben Uyetake on Thursdays from 6:00-8:00pm!
URL:https://www.kimosmaui.com/event/live-entertainment-ben-uyetake-2/2026-07-02/
LOCATION:Kimo’s\, 845 Front Street\, Lahaina\, HI\, 96761\, United States
CATEGORIES:Live Entertainment,Weekly Happenings
ATTACH;FMTTYPE=image/jpeg:https://www.kimosmaui.com/wp-content/uploads/2018/10/Live_Entertainment_Kimos_.jpg
END:VEVENT
BEGIN:VEVENT
DTSTART;TZID=Pacific/Honolulu:20260709T180000
DTEND;TZID=Pacific/Honolulu:20260709T200000
DTSTAMP:20260422T021250
CREATED:20210129T175706Z
LAST-MODIFIED:20210129T175706Z
UID:6943-1783620000-1783627200@www.kimosmaui.com
SUMMARY:Live Entertainment - Ben Uyetake
DESCRIPTION:Enjoy live entertainment from Ben Uyetake on Thursdays from 6:00-8:00pm!
URL:https://www.kimosmaui.com/event/live-entertainment-ben-uyetake-2/2026-07-09/
LOCATION:Kimo’s\, 845 Front Street\, Lahaina\, HI\, 96761\, United States
CATEGORIES:Live Entertainment,Weekly Happenings
ATTACH;FMTTYPE=image/jpeg:https://www.kimosmaui.com/wp-content/uploads/2018/10/Live_Entertainment_Kimos_.jpg
END:VEVENT
BEGIN:VEVENT
DTSTART;TZID=Pacific/Honolulu:20260716T180000
DTEND;TZID=Pacific/Honolulu:20260716T200000
DTSTAMP:20260422T021250
CREATED:20210129T175706Z
LAST-MODIFIED:20210129T175706Z
UID:6950-1784224800-1784232000@www.kimosmaui.com
SUMMARY:Live Entertainment - Ben Uyetake
DESCRIPTION:Enjoy live entertainment from Ben Uyetake on Thursdays from 6:00-8:00pm!
URL:https://www.kimosmaui.com/event/live-entertainment-ben-uyetake-2/2026-07-16/
LOCATION:Kimo’s\, 845 Front Street\, Lahaina\, HI\, 96761\, United States
CATEGORIES:Live Entertainment,Weekly Happenings
ATTACH;FMTTYPE=image/jpeg:https://www.kimosmaui.com/wp-content/uploads/2018/10/Live_Entertainment_Kimos_.jpg
END:VEVENT
BEGIN:VEVENT
DTSTART;TZID=Pacific/Honolulu:20260723T180000
DTEND;TZID=Pacific/Honolulu:20260723T200000
DTSTAMP:20260422T021250
CREATED:20210129T175706Z
LAST-MODIFIED:20210129T175706Z
UID:6957-1784829600-1784836800@www.kimosmaui.com
SUMMARY:Live Entertainment - Ben Uyetake
DESCRIPTION:Enjoy live entertainment from Ben Uyetake on Thursdays from 6:00-8:00pm!
URL:https://www.kimosmaui.com/event/live-entertainment-ben-uyetake-2/2026-07-23/
LOCATION:Kimo’s\, 845 Front Street\, Lahaina\, HI\, 96761\, United States
CATEGORIES:Live Entertainment,Weekly Happenings
ATTACH;FMTTYPE=image/jpeg:https://www.kimosmaui.com/wp-content/uploads/2018/10/Live_Entertainment_Kimos_.jpg
END:VEVENT
BEGIN:VEVENT
DTSTART;TZID=Pacific/Honolulu:20260730T180000
DTEND;TZID=Pacific/Honolulu:20260730T200000
DTSTAMP:20260422T021250
CREATED:20210129T175706Z
LAST-MODIFIED:20210129T175706Z
UID:6964-1785434400-1785441600@www.kimosmaui.com
SUMMARY:Live Entertainment - Ben Uyetake
DESCRIPTION:Enjoy live entertainment from Ben Uyetake on Thursdays from 6:00-8:00pm!
URL:https://www.kimosmaui.com/event/live-entertainment-ben-uyetake-2/2026-07-30/
LOCATION:Kimo’s\, 845 Front Street\, Lahaina\, HI\, 96761\, United States
CATEGORIES:Live Entertainment,Weekly Happenings
ATTACH;FMTTYPE=image/jpeg:https://www.kimosmaui.com/wp-content/uploads/2018/10/Live_Entertainment_Kimos_.jpg
END:VEVENT
BEGIN:VEVENT
DTSTART;TZID=Pacific/Honolulu:20260806T180000
DTEND;TZID=Pacific/Honolulu:20260806T200000
DTSTAMP:20260422T021250
CREATED:20210129T175706Z
LAST-MODIFIED:20210129T175706Z
UID:6971-1786039200-1786046400@www.kimosmaui.com
SUMMARY:Live Entertainment - Ben Uyetake
DESCRIPTION:Enjoy live entertainment from Ben Uyetake on Thursdays from 6:00-8:00pm!
URL:https://www.kimosmaui.com/event/live-entertainment-ben-uyetake-2/2026-08-06/
LOCATION:Kimo’s\, 845 Front Street\, Lahaina\, HI\, 96761\, United States
CATEGORIES:Live Entertainment,Weekly Happenings
ATTACH;FMTTYPE=image/jpeg:https://www.kimosmaui.com/wp-content/uploads/2018/10/Live_Entertainment_Kimos_.jpg
END:VEVENT
BEGIN:VEVENT
DTSTART;TZID=Pacific/Honolulu:20260813T180000
DTEND;TZID=Pacific/Honolulu:20260813T200000
DTSTAMP:20260422T021250
CREATED:20210129T175706Z
LAST-MODIFIED:20210129T175706Z
UID:6978-1786644000-1786651200@www.kimosmaui.com
SUMMARY:Live Entertainment - Ben Uyetake
DESCRIPTION:Enjoy live entertainment from Ben Uyetake on Thursdays from 6:00-8:00pm!
URL:https://www.kimosmaui.com/event/live-entertainment-ben-uyetake-2/2026-08-13/
LOCATION:Kimo’s\, 845 Front Street\, Lahaina\, HI\, 96761\, United States
CATEGORIES:Live Entertainment,Weekly Happenings
ATTACH;FMTTYPE=image/jpeg:https://www.kimosmaui.com/wp-content/uploads/2018/10/Live_Entertainment_Kimos_.jpg
END:VEVENT
BEGIN:VEVENT
DTSTART;TZID=Pacific/Honolulu:20260820T180000
DTEND;TZID=Pacific/Honolulu:20260820T200000
DTSTAMP:20260422T021250
CREATED:20210129T175706Z
LAST-MODIFIED:20210129T175706Z
UID:6985-1787248800-1787256000@www.kimosmaui.com
SUMMARY:Live Entertainment - Ben Uyetake
DESCRIPTION:Enjoy live entertainment from Ben Uyetake on Thursdays from 6:00-8:00pm!
URL:https://www.kimosmaui.com/event/live-entertainment-ben-uyetake-2/2026-08-20/
LOCATION:Kimo’s\, 845 Front Street\, Lahaina\, HI\, 96761\, United States
CATEGORIES:Live Entertainment,Weekly Happenings
ATTACH;FMTTYPE=image/jpeg:https://www.kimosmaui.com/wp-content/uploads/2018/10/Live_Entertainment_Kimos_.jpg
END:VEVENT
BEGIN:VEVENT
DTSTART;TZID=Pacific/Honolulu:20260827T180000
DTEND;TZID=Pacific/Honolulu:20260827T200000
DTSTAMP:20260422T021250
CREATED:20210129T175706Z
LAST-MODIFIED:20210129T175706Z
UID:6992-1787853600-1787860800@www.kimosmaui.com
SUMMARY:Live Entertainment - Ben Uyetake
DESCRIPTION:Enjoy live entertainment from Ben Uyetake on Thursdays from 6:00-8:00pm!
URL:https://www.kimosmaui.com/event/live-entertainment-ben-uyetake-2/2026-08-27/
LOCATION:Kimo’s\, 845 Front Street\, Lahaina\, HI\, 96761\, United States
CATEGORIES:Live Entertainment,Weekly Happenings
ATTACH;FMTTYPE=image/jpeg:https://www.kimosmaui.com/wp-content/uploads/2018/10/Live_Entertainment_Kimos_.jpg
END:VEVENT
BEGIN:VEVENT
DTSTART;TZID=Pacific/Honolulu:20260903T180000
DTEND;TZID=Pacific/Honolulu:20260903T200000
DTSTAMP:20260422T021250
CREATED:20210129T175706Z
LAST-MODIFIED:20210129T175706Z
UID:6999-1788458400-1788465600@www.kimosmaui.com
SUMMARY:Live Entertainment - Ben Uyetake
DESCRIPTION:Enjoy live entertainment from Ben Uyetake on Thursdays from 6:00-8:00pm!
URL:https://www.kimosmaui.com/event/live-entertainment-ben-uyetake-2/2026-09-03/
LOCATION:Kimo’s\, 845 Front Street\, Lahaina\, HI\, 96761\, United States
CATEGORIES:Live Entertainment,Weekly Happenings
ATTACH;FMTTYPE=image/jpeg:https://www.kimosmaui.com/wp-content/uploads/2018/10/Live_Entertainment_Kimos_.jpg
END:VEVENT
BEGIN:VEVENT
DTSTART;TZID=Pacific/Honolulu:20260910T180000
DTEND;TZID=Pacific/Honolulu:20260910T200000
DTSTAMP:20260422T021250
CREATED:20210129T175706Z
LAST-MODIFIED:20210129T175706Z
UID:7006-1789063200-1789070400@www.kimosmaui.com
SUMMARY:Live Entertainment - Ben Uyetake
DESCRIPTION:Enjoy live entertainment from Ben Uyetake on Thursdays from 6:00-8:00pm!
URL:https://www.kimosmaui.com/event/live-entertainment-ben-uyetake-2/2026-09-10/
LOCATION:Kimo’s\, 845 Front Street\, Lahaina\, HI\, 96761\, United States
CATEGORIES:Live Entertainment,Weekly Happenings
ATTACH;FMTTYPE=image/jpeg:https://www.kimosmaui.com/wp-content/uploads/2018/10/Live_Entertainment_Kimos_.jpg
END:VEVENT
BEGIN:VEVENT
DTSTART;TZID=Pacific/Honolulu:20260917T180000
DTEND;TZID=Pacific/Honolulu:20260917T200000
DTSTAMP:20260422T021250
CREATED:20210129T175706Z
LAST-MODIFIED:20210129T175706Z
UID:7013-1789668000-1789675200@www.kimosmaui.com
SUMMARY:Live Entertainment - Ben Uyetake
DESCRIPTION:Enjoy live entertainment from Ben Uyetake on Thursdays from 6:00-8:00pm!
URL:https://www.kimosmaui.com/event/live-entertainment-ben-uyetake-2/2026-09-17/
LOCATION:Kimo’s\, 845 Front Street\, Lahaina\, HI\, 96761\, United States
CATEGORIES:Live Entertainment,Weekly Happenings
ATTACH;FMTTYPE=image/jpeg:https://www.kimosmaui.com/wp-content/uploads/2018/10/Live_Entertainment_Kimos_.jpg
END:VEVENT
BEGIN:VEVENT
DTSTART;TZID=Pacific/Honolulu:20260924T180000
DTEND;TZID=Pacific/Honolulu:20260924T200000
DTSTAMP:20260422T021250
CREATED:20210129T175706Z
LAST-MODIFIED:20210129T175706Z
UID:7020-1790272800-1790280000@www.kimosmaui.com
SUMMARY:Live Entertainment - Ben Uyetake
DESCRIPTION:Enjoy live entertainment from Ben Uyetake on Thursdays from 6:00-8:00pm!
URL:https://www.kimosmaui.com/event/live-entertainment-ben-uyetake-2/2026-09-24/
LOCATION:Kimo’s\, 845 Front Street\, Lahaina\, HI\, 96761\, United States
CATEGORIES:Live Entertainment,Weekly Happenings
ATTACH;FMTTYPE=image/jpeg:https://www.kimosmaui.com/wp-content/uploads/2018/10/Live_Entertainment_Kimos_.jpg
END:VEVENT
BEGIN:VEVENT
DTSTART;TZID=Pacific/Honolulu:20261001T180000
DTEND;TZID=Pacific/Honolulu:20261001T200000
DTSTAMP:20260422T021250
CREATED:20210129T175706Z
LAST-MODIFIED:20210129T175706Z
UID:7201-1790877600-1790884800@www.kimosmaui.com
SUMMARY:Live Entertainment - Ben Uyetake
DESCRIPTION:Enjoy live entertainment from Ben Uyetake on Thursdays from 6:00-8:00pm!
URL:https://www.kimosmaui.com/event/live-entertainment-ben-uyetake-2/2026-10-01/
LOCATION:Kimo’s\, 845 Front Street\, Lahaina\, HI\, 96761\, United States
CATEGORIES:Live Entertainment,Weekly Happenings
ATTACH;FMTTYPE=image/jpeg:https://www.kimosmaui.com/wp-content/uploads/2018/10/Live_Entertainment_Kimos_.jpg
END:VEVENT
BEGIN:VEVENT
DTSTART;TZID=Pacific/Honolulu:20261008T180000
DTEND;TZID=Pacific/Honolulu:20261008T200000
DTSTAMP:20260422T021250
CREATED:20210129T175706Z
LAST-MODIFIED:20210129T175706Z
UID:7202-1791482400-1791489600@www.kimosmaui.com
SUMMARY:Live Entertainment - Ben Uyetake
DESCRIPTION:Enjoy live entertainment from Ben Uyetake on Thursdays from 6:00-8:00pm!
URL:https://www.kimosmaui.com/event/live-entertainment-ben-uyetake-2/2026-10-08/
LOCATION:Kimo’s\, 845 Front Street\, Lahaina\, HI\, 96761\, United States
CATEGORIES:Live Entertainment,Weekly Happenings
ATTACH;FMTTYPE=image/jpeg:https://www.kimosmaui.com/wp-content/uploads/2018/10/Live_Entertainment_Kimos_.jpg
END:VEVENT
BEGIN:VEVENT
DTSTART;TZID=Pacific/Honolulu:20261015T180000
DTEND;TZID=Pacific/Honolulu:20261015T200000
DTSTAMP:20260422T021250
CREATED:20210129T175706Z
LAST-MODIFIED:20210129T175706Z
UID:7203-1792087200-1792094400@www.kimosmaui.com
SUMMARY:Live Entertainment - Ben Uyetake
DESCRIPTION:Enjoy live entertainment from Ben Uyetake on Thursdays from 6:00-8:00pm!
URL:https://www.kimosmaui.com/event/live-entertainment-ben-uyetake-2/2026-10-15/
LOCATION:Kimo’s\, 845 Front Street\, Lahaina\, HI\, 96761\, United States
CATEGORIES:Live Entertainment,Weekly Happenings
ATTACH;FMTTYPE=image/jpeg:https://www.kimosmaui.com/wp-content/uploads/2018/10/Live_Entertainment_Kimos_.jpg
END:VEVENT
BEGIN:VEVENT
DTSTART;TZID=Pacific/Honolulu:20261022T180000
DTEND;TZID=Pacific/Honolulu:20261022T200000
DTSTAMP:20260422T021250
CREATED:20210129T175706Z
LAST-MODIFIED:20210129T175706Z
UID:7204-1792692000-1792699200@www.kimosmaui.com
SUMMARY:Live Entertainment - Ben Uyetake
DESCRIPTION:Enjoy live entertainment from Ben Uyetake on Thursdays from 6:00-8:00pm!
URL:https://www.kimosmaui.com/event/live-entertainment-ben-uyetake-2/2026-10-22/
LOCATION:Kimo’s\, 845 Front Street\, Lahaina\, HI\, 96761\, United States
CATEGORIES:Live Entertainment,Weekly Happenings
ATTACH;FMTTYPE=image/jpeg:https://www.kimosmaui.com/wp-content/uploads/2018/10/Live_Entertainment_Kimos_.jpg
END:VEVENT
BEGIN:VEVENT
DTSTART;TZID=Pacific/Honolulu:20261029T180000
DTEND;TZID=Pacific/Honolulu:20261029T200000
DTSTAMP:20260422T021250
CREATED:20210129T175706Z
LAST-MODIFIED:20210129T175706Z
UID:7205-1793296800-1793304000@www.kimosmaui.com
SUMMARY:Live Entertainment - Ben Uyetake
DESCRIPTION:Enjoy live entertainment from Ben Uyetake on Thursdays from 6:00-8:00pm!
URL:https://www.kimosmaui.com/event/live-entertainment-ben-uyetake-2/2026-10-29/
LOCATION:Kimo’s\, 845 Front Street\, Lahaina\, HI\, 96761\, United States
CATEGORIES:Live Entertainment,Weekly Happenings
ATTACH;FMTTYPE=image/jpeg:https://www.kimosmaui.com/wp-content/uploads/2018/10/Live_Entertainment_Kimos_.jpg
END:VEVENT
BEGIN:VEVENT
DTSTART;TZID=Pacific/Honolulu:20261105T180000
DTEND;TZID=Pacific/Honolulu:20261105T200000
DTSTAMP:20260422T021250
CREATED:20210129T175706Z
LAST-MODIFIED:20210129T175706Z
UID:7206-1793901600-1793908800@www.kimosmaui.com
SUMMARY:Live Entertainment - Ben Uyetake
DESCRIPTION:Enjoy live entertainment from Ben Uyetake on Thursdays from 6:00-8:00pm!
URL:https://www.kimosmaui.com/event/live-entertainment-ben-uyetake-2/2026-11-05/
LOCATION:Kimo’s\, 845 Front Street\, Lahaina\, HI\, 96761\, United States
CATEGORIES:Live Entertainment,Weekly Happenings
ATTACH;FMTTYPE=image/jpeg:https://www.kimosmaui.com/wp-content/uploads/2018/10/Live_Entertainment_Kimos_.jpg
END:VEVENT
BEGIN:VEVENT
DTSTART;TZID=Pacific/Honolulu:20261112T180000
DTEND;TZID=Pacific/Honolulu:20261112T200000
DTSTAMP:20260422T021250
CREATED:20210129T175706Z
LAST-MODIFIED:20210129T175706Z
UID:7207-1794506400-1794513600@www.kimosmaui.com
SUMMARY:Live Entertainment - Ben Uyetake
DESCRIPTION:Enjoy live entertainment from Ben Uyetake on Thursdays from 6:00-8:00pm!
URL:https://www.kimosmaui.com/event/live-entertainment-ben-uyetake-2/2026-11-12/
LOCATION:Kimo’s\, 845 Front Street\, Lahaina\, HI\, 96761\, United States
CATEGORIES:Live Entertainment,Weekly Happenings
ATTACH;FMTTYPE=image/jpeg:https://www.kimosmaui.com/wp-content/uploads/2018/10/Live_Entertainment_Kimos_.jpg
END:VEVENT
END:VCALENDAR