BEGIN:VCALENDAR
VERSION:2.0
PRODID:-//Kimo&#039;s Lahaina - ECPv6.15.5//NONSGML v1.0//EN
CALSCALE:GREGORIAN
METHOD:PUBLISH
X-WR-CALNAME:Kimo&#039;s Lahaina
X-ORIGINAL-URL:https://www.kimosmaui.com
X-WR-CALDESC:Events for Kimo&#039;s Lahaina
REFRESH-INTERVAL;VALUE=DURATION:PT1H
X-Robots-Tag:noindex
X-PUBLISHED-TTL:PT1H
BEGIN:VTIMEZONE
TZID:Pacific/Honolulu
BEGIN:STANDARD
TZOFFSETFROM:-1000
TZOFFSETTO:-1000
TZNAME:HST
DTSTART:20250101T000000
END:STANDARD
END:VTIMEZONE
BEGIN:VEVENT
DTSTART;TZID=Pacific/Honolulu:20260416T180000
DTEND;TZID=Pacific/Honolulu:20260416T200000
DTSTAMP:20260422T034435
CREATED:20210129T175706Z
LAST-MODIFIED:20210129T175706Z
UID:6857-1776362400-1776369600@www.kimosmaui.com
SUMMARY:Live Entertainment - Ben Uyetake
DESCRIPTION:Enjoy live entertainment from Ben Uyetake on Thursdays from 6:00-8:00pm!
URL:https://www.kimosmaui.com/event/live-entertainment-ben-uyetake-2/2026-04-16/
LOCATION:Kimo’s\, 845 Front Street\, Lahaina\, HI\, 96761\, United States
CATEGORIES:Live Entertainment,Weekly Happenings
ATTACH;FMTTYPE=image/jpeg:https://www.kimosmaui.com/wp-content/uploads/2018/10/Live_Entertainment_Kimos_.jpg
END:VEVENT
BEGIN:VEVENT
DTSTART;TZID=Pacific/Honolulu:20260409T180000
DTEND;TZID=Pacific/Honolulu:20260409T200000
DTSTAMP:20260422T034435
CREATED:20210129T175706Z
LAST-MODIFIED:20210129T175706Z
UID:6850-1775757600-1775764800@www.kimosmaui.com
SUMMARY:Live Entertainment - Ben Uyetake
DESCRIPTION:Enjoy live entertainment from Ben Uyetake on Thursdays from 6:00-8:00pm!
URL:https://www.kimosmaui.com/event/live-entertainment-ben-uyetake-2/2026-04-09/
LOCATION:Kimo’s\, 845 Front Street\, Lahaina\, HI\, 96761\, United States
CATEGORIES:Live Entertainment,Weekly Happenings
ATTACH;FMTTYPE=image/jpeg:https://www.kimosmaui.com/wp-content/uploads/2018/10/Live_Entertainment_Kimos_.jpg
END:VEVENT
BEGIN:VEVENT
DTSTART;TZID=Pacific/Honolulu:20260402T180000
DTEND;TZID=Pacific/Honolulu:20260402T200000
DTSTAMP:20260422T034435
CREATED:20210129T175706Z
LAST-MODIFIED:20210129T175706Z
UID:6843-1775152800-1775160000@www.kimosmaui.com
SUMMARY:Live Entertainment - Ben Uyetake
DESCRIPTION:Enjoy live entertainment from Ben Uyetake on Thursdays from 6:00-8:00pm!
URL:https://www.kimosmaui.com/event/live-entertainment-ben-uyetake-2/2026-04-02/
LOCATION:Kimo’s\, 845 Front Street\, Lahaina\, HI\, 96761\, United States
CATEGORIES:Live Entertainment,Weekly Happenings
ATTACH;FMTTYPE=image/jpeg:https://www.kimosmaui.com/wp-content/uploads/2018/10/Live_Entertainment_Kimos_.jpg
END:VEVENT
BEGIN:VEVENT
DTSTART;TZID=Pacific/Honolulu:20260326T180000
DTEND;TZID=Pacific/Honolulu:20260326T200000
DTSTAMP:20260422T034435
CREATED:20210129T175706Z
LAST-MODIFIED:20210129T175706Z
UID:6836-1774548000-1774555200@www.kimosmaui.com
SUMMARY:Live Entertainment - Ben Uyetake
DESCRIPTION:Enjoy live entertainment from Ben Uyetake on Thursdays from 6:00-8:00pm!
URL:https://www.kimosmaui.com/event/live-entertainment-ben-uyetake-2/2026-03-26/
LOCATION:Kimo’s\, 845 Front Street\, Lahaina\, HI\, 96761\, United States
CATEGORIES:Live Entertainment,Weekly Happenings
ATTACH;FMTTYPE=image/jpeg:https://www.kimosmaui.com/wp-content/uploads/2018/10/Live_Entertainment_Kimos_.jpg
END:VEVENT
BEGIN:VEVENT
DTSTART;TZID=Pacific/Honolulu:20260319T180000
DTEND;TZID=Pacific/Honolulu:20260319T200000
DTSTAMP:20260422T034435
CREATED:20210129T175706Z
LAST-MODIFIED:20210129T175706Z
UID:6829-1773943200-1773950400@www.kimosmaui.com
SUMMARY:Live Entertainment - Ben Uyetake
DESCRIPTION:Enjoy live entertainment from Ben Uyetake on Thursdays from 6:00-8:00pm!
URL:https://www.kimosmaui.com/event/live-entertainment-ben-uyetake-2/2026-03-19/
LOCATION:Kimo’s\, 845 Front Street\, Lahaina\, HI\, 96761\, United States
CATEGORIES:Live Entertainment,Weekly Happenings
ATTACH;FMTTYPE=image/jpeg:https://www.kimosmaui.com/wp-content/uploads/2018/10/Live_Entertainment_Kimos_.jpg
END:VEVENT
BEGIN:VEVENT
DTSTART;TZID=Pacific/Honolulu:20260312T180000
DTEND;TZID=Pacific/Honolulu:20260312T200000
DTSTAMP:20260422T034435
CREATED:20210129T175706Z
LAST-MODIFIED:20210129T175706Z
UID:6822-1773338400-1773345600@www.kimosmaui.com
SUMMARY:Live Entertainment - Ben Uyetake
DESCRIPTION:Enjoy live entertainment from Ben Uyetake on Thursdays from 6:00-8:00pm!
URL:https://www.kimosmaui.com/event/live-entertainment-ben-uyetake-2/2026-03-12/
LOCATION:Kimo’s\, 845 Front Street\, Lahaina\, HI\, 96761\, United States
CATEGORIES:Live Entertainment,Weekly Happenings
ATTACH;FMTTYPE=image/jpeg:https://www.kimosmaui.com/wp-content/uploads/2018/10/Live_Entertainment_Kimos_.jpg
END:VEVENT
BEGIN:VEVENT
DTSTART;TZID=Pacific/Honolulu:20260305T180000
DTEND;TZID=Pacific/Honolulu:20260305T200000
DTSTAMP:20260422T034435
CREATED:20210129T175706Z
LAST-MODIFIED:20210129T175706Z
UID:6815-1772733600-1772740800@www.kimosmaui.com
SUMMARY:Live Entertainment - Ben Uyetake
DESCRIPTION:Enjoy live entertainment from Ben Uyetake on Thursdays from 6:00-8:00pm!
URL:https://www.kimosmaui.com/event/live-entertainment-ben-uyetake-2/2026-03-05/
LOCATION:Kimo’s\, 845 Front Street\, Lahaina\, HI\, 96761\, United States
CATEGORIES:Live Entertainment,Weekly Happenings
ATTACH;FMTTYPE=image/jpeg:https://www.kimosmaui.com/wp-content/uploads/2018/10/Live_Entertainment_Kimos_.jpg
END:VEVENT
BEGIN:VEVENT
DTSTART;TZID=Pacific/Honolulu:20260226T180000
DTEND;TZID=Pacific/Honolulu:20260226T200000
DTSTAMP:20260422T034435
CREATED:20210129T175706Z
LAST-MODIFIED:20210129T175706Z
UID:6808-1772128800-1772136000@www.kimosmaui.com
SUMMARY:Live Entertainment - Ben Uyetake
DESCRIPTION:Enjoy live entertainment from Ben Uyetake on Thursdays from 6:00-8:00pm!
URL:https://www.kimosmaui.com/event/live-entertainment-ben-uyetake-2/2026-02-26/
LOCATION:Kimo’s\, 845 Front Street\, Lahaina\, HI\, 96761\, United States
CATEGORIES:Live Entertainment,Weekly Happenings
ATTACH;FMTTYPE=image/jpeg:https://www.kimosmaui.com/wp-content/uploads/2018/10/Live_Entertainment_Kimos_.jpg
END:VEVENT
BEGIN:VEVENT
DTSTART;TZID=Pacific/Honolulu:20260219T180000
DTEND;TZID=Pacific/Honolulu:20260219T200000
DTSTAMP:20260422T034435
CREATED:20210129T175706Z
LAST-MODIFIED:20210129T175706Z
UID:6801-1771524000-1771531200@www.kimosmaui.com
SUMMARY:Live Entertainment - Ben Uyetake
DESCRIPTION:Enjoy live entertainment from Ben Uyetake on Thursdays from 6:00-8:00pm!
URL:https://www.kimosmaui.com/event/live-entertainment-ben-uyetake-2/2026-02-19/
LOCATION:Kimo’s\, 845 Front Street\, Lahaina\, HI\, 96761\, United States
CATEGORIES:Live Entertainment,Weekly Happenings
ATTACH;FMTTYPE=image/jpeg:https://www.kimosmaui.com/wp-content/uploads/2018/10/Live_Entertainment_Kimos_.jpg
END:VEVENT
BEGIN:VEVENT
DTSTART;TZID=Pacific/Honolulu:20260212T180000
DTEND;TZID=Pacific/Honolulu:20260212T200000
DTSTAMP:20260422T034435
CREATED:20210129T175706Z
LAST-MODIFIED:20210129T175706Z
UID:6792-1770919200-1770926400@www.kimosmaui.com
SUMMARY:Live Entertainment - Ben Uyetake
DESCRIPTION:Enjoy live entertainment from Ben Uyetake on Thursdays from 6:00-8:00pm!
URL:https://www.kimosmaui.com/event/live-entertainment-ben-uyetake-2/2026-02-12/
LOCATION:Kimo’s\, 845 Front Street\, Lahaina\, HI\, 96761\, United States
CATEGORIES:Live Entertainment,Weekly Happenings
ATTACH;FMTTYPE=image/jpeg:https://www.kimosmaui.com/wp-content/uploads/2018/10/Live_Entertainment_Kimos_.jpg
END:VEVENT
BEGIN:VEVENT
DTSTART;TZID=Pacific/Honolulu:20260205T180000
DTEND;TZID=Pacific/Honolulu:20260205T200000
DTSTAMP:20260422T034435
CREATED:20210129T175706Z
LAST-MODIFIED:20210129T175706Z
UID:6783-1770314400-1770321600@www.kimosmaui.com
SUMMARY:Live Entertainment - Ben Uyetake
DESCRIPTION:Enjoy live entertainment from Ben Uyetake on Thursdays from 6:00-8:00pm!
URL:https://www.kimosmaui.com/event/live-entertainment-ben-uyetake-2/2026-02-05/
LOCATION:Kimo’s\, 845 Front Street\, Lahaina\, HI\, 96761\, United States
CATEGORIES:Live Entertainment,Weekly Happenings
ATTACH;FMTTYPE=image/jpeg:https://www.kimosmaui.com/wp-content/uploads/2018/10/Live_Entertainment_Kimos_.jpg
END:VEVENT
BEGIN:VEVENT
DTSTART;TZID=Pacific/Honolulu:20260129T180000
DTEND;TZID=Pacific/Honolulu:20260129T200000
DTSTAMP:20260422T034435
CREATED:20210129T175706Z
LAST-MODIFIED:20210129T175706Z
UID:6776-1769709600-1769716800@www.kimosmaui.com
SUMMARY:Live Entertainment - Ben Uyetake
DESCRIPTION:Enjoy live entertainment from Ben Uyetake on Thursdays from 6:00-8:00pm!
URL:https://www.kimosmaui.com/event/live-entertainment-ben-uyetake-2/2026-01-29/
LOCATION:Kimo’s\, 845 Front Street\, Lahaina\, HI\, 96761\, United States
CATEGORIES:Live Entertainment,Weekly Happenings
ATTACH;FMTTYPE=image/jpeg:https://www.kimosmaui.com/wp-content/uploads/2018/10/Live_Entertainment_Kimos_.jpg
END:VEVENT
BEGIN:VEVENT
DTSTART;TZID=Pacific/Honolulu:20260122T180000
DTEND;TZID=Pacific/Honolulu:20260122T200000
DTSTAMP:20260422T034435
CREATED:20210129T175706Z
LAST-MODIFIED:20210129T175706Z
UID:6765-1769104800-1769112000@www.kimosmaui.com
SUMMARY:Live Entertainment - Ben Uyetake
DESCRIPTION:Enjoy live entertainment from Ben Uyetake on Thursdays from 6:00-8:00pm!
URL:https://www.kimosmaui.com/event/live-entertainment-ben-uyetake-2/2026-01-22/
LOCATION:Kimo’s\, 845 Front Street\, Lahaina\, HI\, 96761\, United States
CATEGORIES:Live Entertainment,Weekly Happenings
ATTACH;FMTTYPE=image/jpeg:https://www.kimosmaui.com/wp-content/uploads/2018/10/Live_Entertainment_Kimos_.jpg
END:VEVENT
BEGIN:VEVENT
DTSTART;TZID=Pacific/Honolulu:20260115T180000
DTEND;TZID=Pacific/Honolulu:20260115T200000
DTSTAMP:20260422T034435
CREATED:20210129T175706Z
LAST-MODIFIED:20210129T175706Z
UID:6758-1768500000-1768507200@www.kimosmaui.com
SUMMARY:Live Entertainment - Ben Uyetake
DESCRIPTION:Enjoy live entertainment from Ben Uyetake on Thursdays from 6:00-8:00pm!
URL:https://www.kimosmaui.com/event/live-entertainment-ben-uyetake-2/2026-01-15/
LOCATION:Kimo’s\, 845 Front Street\, Lahaina\, HI\, 96761\, United States
CATEGORIES:Live Entertainment,Weekly Happenings
ATTACH;FMTTYPE=image/jpeg:https://www.kimosmaui.com/wp-content/uploads/2018/10/Live_Entertainment_Kimos_.jpg
END:VEVENT
BEGIN:VEVENT
DTSTART;TZID=Pacific/Honolulu:20260108T180000
DTEND;TZID=Pacific/Honolulu:20260108T200000
DTSTAMP:20260422T034435
CREATED:20210129T175706Z
LAST-MODIFIED:20210129T175706Z
UID:6751-1767895200-1767902400@www.kimosmaui.com
SUMMARY:Live Entertainment - Ben Uyetake
DESCRIPTION:Enjoy live entertainment from Ben Uyetake on Thursdays from 6:00-8:00pm!
URL:https://www.kimosmaui.com/event/live-entertainment-ben-uyetake-2/2026-01-08/
LOCATION:Kimo’s\, 845 Front Street\, Lahaina\, HI\, 96761\, United States
CATEGORIES:Live Entertainment,Weekly Happenings
ATTACH;FMTTYPE=image/jpeg:https://www.kimosmaui.com/wp-content/uploads/2018/10/Live_Entertainment_Kimos_.jpg
END:VEVENT
BEGIN:VEVENT
DTSTART;TZID=Pacific/Honolulu:20260101T180000
DTEND;TZID=Pacific/Honolulu:20260101T200000
DTSTAMP:20260422T034435
CREATED:20210129T175706Z
LAST-MODIFIED:20210129T175706Z
UID:6744-1767290400-1767297600@www.kimosmaui.com
SUMMARY:Live Entertainment - Ben Uyetake
DESCRIPTION:Enjoy live entertainment from Ben Uyetake on Thursdays from 6:00-8:00pm!
URL:https://www.kimosmaui.com/event/live-entertainment-ben-uyetake-2/2026-01-01/
LOCATION:Kimo’s\, 845 Front Street\, Lahaina\, HI\, 96761\, United States
CATEGORIES:Live Entertainment,Weekly Happenings
ATTACH;FMTTYPE=image/jpeg:https://www.kimosmaui.com/wp-content/uploads/2018/10/Live_Entertainment_Kimos_.jpg
END:VEVENT
BEGIN:VEVENT
DTSTART;TZID=Pacific/Honolulu:20251225T180000
DTEND;TZID=Pacific/Honolulu:20251225T200000
DTSTAMP:20260422T034435
CREATED:20210129T175706Z
LAST-MODIFIED:20210129T175706Z
UID:6737-1766685600-1766692800@www.kimosmaui.com
SUMMARY:Live Entertainment - Ben Uyetake
DESCRIPTION:Enjoy live entertainment from Ben Uyetake on Thursdays from 6:00-8:00pm!
URL:https://www.kimosmaui.com/event/live-entertainment-ben-uyetake-2/2025-12-25/
LOCATION:Kimo’s\, 845 Front Street\, Lahaina\, HI\, 96761\, United States
CATEGORIES:Live Entertainment,Weekly Happenings
ATTACH;FMTTYPE=image/jpeg:https://www.kimosmaui.com/wp-content/uploads/2018/10/Live_Entertainment_Kimos_.jpg
END:VEVENT
BEGIN:VEVENT
DTSTART;TZID=Pacific/Honolulu:20251218T180000
DTEND;TZID=Pacific/Honolulu:20251218T200000
DTSTAMP:20260422T034435
CREATED:20210129T175706Z
LAST-MODIFIED:20210129T175706Z
UID:6730-1766080800-1766088000@www.kimosmaui.com
SUMMARY:Live Entertainment - Ben Uyetake
DESCRIPTION:Enjoy live entertainment from Ben Uyetake on Thursdays from 6:00-8:00pm!
URL:https://www.kimosmaui.com/event/live-entertainment-ben-uyetake-2/2025-12-18/
LOCATION:Kimo’s\, 845 Front Street\, Lahaina\, HI\, 96761\, United States
CATEGORIES:Live Entertainment,Weekly Happenings
ATTACH;FMTTYPE=image/jpeg:https://www.kimosmaui.com/wp-content/uploads/2018/10/Live_Entertainment_Kimos_.jpg
END:VEVENT
BEGIN:VEVENT
DTSTART;TZID=Pacific/Honolulu:20251211T180000
DTEND;TZID=Pacific/Honolulu:20251211T200000
DTSTAMP:20260422T034435
CREATED:20210129T175706Z
LAST-MODIFIED:20210129T175706Z
UID:6723-1765476000-1765483200@www.kimosmaui.com
SUMMARY:Live Entertainment - Ben Uyetake
DESCRIPTION:Enjoy live entertainment from Ben Uyetake on Thursdays from 6:00-8:00pm!
URL:https://www.kimosmaui.com/event/live-entertainment-ben-uyetake-2/2025-12-11/
LOCATION:Kimo’s\, 845 Front Street\, Lahaina\, HI\, 96761\, United States
CATEGORIES:Live Entertainment,Weekly Happenings
ATTACH;FMTTYPE=image/jpeg:https://www.kimosmaui.com/wp-content/uploads/2018/10/Live_Entertainment_Kimos_.jpg
END:VEVENT
BEGIN:VEVENT
DTSTART;TZID=Pacific/Honolulu:20251204T180000
DTEND;TZID=Pacific/Honolulu:20251204T200000
DTSTAMP:20260422T034435
CREATED:20210129T175706Z
LAST-MODIFIED:20210129T175706Z
UID:6716-1764871200-1764878400@www.kimosmaui.com
SUMMARY:Live Entertainment - Ben Uyetake
DESCRIPTION:Enjoy live entertainment from Ben Uyetake on Thursdays from 6:00-8:00pm!
URL:https://www.kimosmaui.com/event/live-entertainment-ben-uyetake-2/2025-12-04/
LOCATION:Kimo’s\, 845 Front Street\, Lahaina\, HI\, 96761\, United States
CATEGORIES:Live Entertainment,Weekly Happenings
ATTACH;FMTTYPE=image/jpeg:https://www.kimosmaui.com/wp-content/uploads/2018/10/Live_Entertainment_Kimos_.jpg
END:VEVENT
BEGIN:VEVENT
DTSTART;TZID=Pacific/Honolulu:20251127T180000
DTEND;TZID=Pacific/Honolulu:20251127T200000
DTSTAMP:20260422T034435
CREATED:20210129T175706Z
LAST-MODIFIED:20210129T175706Z
UID:6708-1764266400-1764273600@www.kimosmaui.com
SUMMARY:Live Entertainment - Ben Uyetake
DESCRIPTION:Enjoy live entertainment from Ben Uyetake on Thursdays from 6:00-8:00pm!
URL:https://www.kimosmaui.com/event/live-entertainment-ben-uyetake-2/2025-11-27/
LOCATION:Kimo’s\, 845 Front Street\, Lahaina\, HI\, 96761\, United States
CATEGORIES:Live Entertainment,Weekly Happenings
ATTACH;FMTTYPE=image/jpeg:https://www.kimosmaui.com/wp-content/uploads/2018/10/Live_Entertainment_Kimos_.jpg
END:VEVENT
BEGIN:VEVENT
DTSTART;TZID=Pacific/Honolulu:20251120T180000
DTEND;TZID=Pacific/Honolulu:20251120T200000
DTSTAMP:20260422T034435
CREATED:20210129T175706Z
LAST-MODIFIED:20210129T175706Z
UID:6701-1763661600-1763668800@www.kimosmaui.com
SUMMARY:Live Entertainment - Ben Uyetake
DESCRIPTION:Enjoy live entertainment from Ben Uyetake on Thursdays from 6:00-8:00pm!
URL:https://www.kimosmaui.com/event/live-entertainment-ben-uyetake-2/2025-11-20/
LOCATION:Kimo’s\, 845 Front Street\, Lahaina\, HI\, 96761\, United States
CATEGORIES:Live Entertainment,Weekly Happenings
ATTACH;FMTTYPE=image/jpeg:https://www.kimosmaui.com/wp-content/uploads/2018/10/Live_Entertainment_Kimos_.jpg
END:VEVENT
BEGIN:VEVENT
DTSTART;TZID=Pacific/Honolulu:20251113T180000
DTEND;TZID=Pacific/Honolulu:20251113T200000
DTSTAMP:20260422T034435
CREATED:20210129T175706Z
LAST-MODIFIED:20210129T175706Z
UID:6694-1763056800-1763064000@www.kimosmaui.com
SUMMARY:Live Entertainment - Ben Uyetake
DESCRIPTION:Enjoy live entertainment from Ben Uyetake on Thursdays from 6:00-8:00pm!
URL:https://www.kimosmaui.com/event/live-entertainment-ben-uyetake-2/2025-11-13/
LOCATION:Kimo’s\, 845 Front Street\, Lahaina\, HI\, 96761\, United States
CATEGORIES:Live Entertainment,Weekly Happenings
ATTACH;FMTTYPE=image/jpeg:https://www.kimosmaui.com/wp-content/uploads/2018/10/Live_Entertainment_Kimos_.jpg
END:VEVENT
BEGIN:VEVENT
DTSTART;TZID=Pacific/Honolulu:20251106T180000
DTEND;TZID=Pacific/Honolulu:20251106T200000
DTSTAMP:20260422T034435
CREATED:20210129T175706Z
LAST-MODIFIED:20210129T175706Z
UID:6687-1762452000-1762459200@www.kimosmaui.com
SUMMARY:Live Entertainment - Ben Uyetake
DESCRIPTION:Enjoy live entertainment from Ben Uyetake on Thursdays from 6:00-8:00pm!
URL:https://www.kimosmaui.com/event/live-entertainment-ben-uyetake-2/2025-11-06/
LOCATION:Kimo’s\, 845 Front Street\, Lahaina\, HI\, 96761\, United States
CATEGORIES:Live Entertainment,Weekly Happenings
ATTACH;FMTTYPE=image/jpeg:https://www.kimosmaui.com/wp-content/uploads/2018/10/Live_Entertainment_Kimos_.jpg
END:VEVENT
BEGIN:VEVENT
DTSTART;TZID=Pacific/Honolulu:20251030T180000
DTEND;TZID=Pacific/Honolulu:20251030T200000
DTSTAMP:20260422T034435
CREATED:20210129T175706Z
LAST-MODIFIED:20210129T175706Z
UID:6680-1761847200-1761854400@www.kimosmaui.com
SUMMARY:Live Entertainment - Ben Uyetake
DESCRIPTION:Enjoy live entertainment from Ben Uyetake on Thursdays from 6:00-8:00pm!
URL:https://www.kimosmaui.com/event/live-entertainment-ben-uyetake-2/2025-10-30/
LOCATION:Kimo’s\, 845 Front Street\, Lahaina\, HI\, 96761\, United States
CATEGORIES:Live Entertainment,Weekly Happenings
ATTACH;FMTTYPE=image/jpeg:https://www.kimosmaui.com/wp-content/uploads/2018/10/Live_Entertainment_Kimos_.jpg
END:VEVENT
BEGIN:VEVENT
DTSTART;TZID=Pacific/Honolulu:20251023T180000
DTEND;TZID=Pacific/Honolulu:20251023T200000
DTSTAMP:20260422T034435
CREATED:20210129T175706Z
LAST-MODIFIED:20210129T175706Z
UID:6673-1761242400-1761249600@www.kimosmaui.com
SUMMARY:Live Entertainment - Ben Uyetake
DESCRIPTION:Enjoy live entertainment from Ben Uyetake on Thursdays from 6:00-8:00pm!
URL:https://www.kimosmaui.com/event/live-entertainment-ben-uyetake-2/2025-10-23/
LOCATION:Kimo’s\, 845 Front Street\, Lahaina\, HI\, 96761\, United States
CATEGORIES:Live Entertainment,Weekly Happenings
ATTACH;FMTTYPE=image/jpeg:https://www.kimosmaui.com/wp-content/uploads/2018/10/Live_Entertainment_Kimos_.jpg
END:VEVENT
BEGIN:VEVENT
DTSTART;TZID=Pacific/Honolulu:20251016T180000
DTEND;TZID=Pacific/Honolulu:20251016T200000
DTSTAMP:20260422T034435
CREATED:20210129T175706Z
LAST-MODIFIED:20210129T175706Z
UID:6666-1760637600-1760644800@www.kimosmaui.com
SUMMARY:Live Entertainment - Ben Uyetake
DESCRIPTION:Enjoy live entertainment from Ben Uyetake on Thursdays from 6:00-8:00pm!
URL:https://www.kimosmaui.com/event/live-entertainment-ben-uyetake-2/2025-10-16/
LOCATION:Kimo’s\, 845 Front Street\, Lahaina\, HI\, 96761\, United States
CATEGORIES:Live Entertainment,Weekly Happenings
ATTACH;FMTTYPE=image/jpeg:https://www.kimosmaui.com/wp-content/uploads/2018/10/Live_Entertainment_Kimos_.jpg
END:VEVENT
BEGIN:VEVENT
DTSTART;TZID=Pacific/Honolulu:20251009T180000
DTEND;TZID=Pacific/Honolulu:20251009T200000
DTSTAMP:20260422T034435
CREATED:20210129T175706Z
LAST-MODIFIED:20210129T175706Z
UID:6659-1760032800-1760040000@www.kimosmaui.com
SUMMARY:Live Entertainment - Ben Uyetake
DESCRIPTION:Enjoy live entertainment from Ben Uyetake on Thursdays from 6:00-8:00pm!
URL:https://www.kimosmaui.com/event/live-entertainment-ben-uyetake-2/2025-10-09/
LOCATION:Kimo’s\, 845 Front Street\, Lahaina\, HI\, 96761\, United States
CATEGORIES:Live Entertainment,Weekly Happenings
ATTACH;FMTTYPE=image/jpeg:https://www.kimosmaui.com/wp-content/uploads/2018/10/Live_Entertainment_Kimos_.jpg
END:VEVENT
BEGIN:VEVENT
DTSTART;TZID=Pacific/Honolulu:20251002T180000
DTEND;TZID=Pacific/Honolulu:20251002T200000
DTSTAMP:20260422T034435
CREATED:20210129T175706Z
LAST-MODIFIED:20210129T175706Z
UID:6651-1759428000-1759435200@www.kimosmaui.com
SUMMARY:Live Entertainment - Ben Uyetake
DESCRIPTION:Enjoy live entertainment from Ben Uyetake on Thursdays from 6:00-8:00pm!
URL:https://www.kimosmaui.com/event/live-entertainment-ben-uyetake-2/2025-10-02/
LOCATION:Kimo’s\, 845 Front Street\, Lahaina\, HI\, 96761\, United States
CATEGORIES:Live Entertainment,Weekly Happenings
ATTACH;FMTTYPE=image/jpeg:https://www.kimosmaui.com/wp-content/uploads/2018/10/Live_Entertainment_Kimos_.jpg
END:VEVENT
BEGIN:VEVENT
DTSTART;TZID=Pacific/Honolulu:20250925T180000
DTEND;TZID=Pacific/Honolulu:20250925T200000
DTSTAMP:20260422T034435
CREATED:20210129T175706Z
LAST-MODIFIED:20210129T175706Z
UID:6644-1758823200-1758830400@www.kimosmaui.com
SUMMARY:Live Entertainment - Ben Uyetake
DESCRIPTION:Enjoy live entertainment from Ben Uyetake on Thursdays from 6:00-8:00pm!
URL:https://www.kimosmaui.com/event/live-entertainment-ben-uyetake-2/2025-09-25/
LOCATION:Kimo’s\, 845 Front Street\, Lahaina\, HI\, 96761\, United States
CATEGORIES:Live Entertainment,Weekly Happenings
ATTACH;FMTTYPE=image/jpeg:https://www.kimosmaui.com/wp-content/uploads/2018/10/Live_Entertainment_Kimos_.jpg
END:VEVENT
END:VCALENDAR